BEGIN:VCALENDAR
VERSION:2.0
PRODID:-//Fesacocur - ECPv6.15.19//NONSGML v1.0//EN
CALSCALE:GREGORIAN
METHOD:PUBLISH
X-ORIGINAL-URL:https://fesacocur.es
X-WR-CALDESC:Eventos para Fesacocur
REFRESH-INTERVAL;VALUE=DURATION:PT1H
X-Robots-Tag:noindex
X-PUBLISHED-TTL:PT1H
BEGIN:VTIMEZONE
TZID:UTC
BEGIN:STANDARD
TZOFFSETFROM:+0000
TZOFFSETTO:+0000
TZNAME:UTC
DTSTART:20250101T000000
END:STANDARD
END:VTIMEZONE
BEGIN:VEVENT
DTSTART;TZID=UTC:20260502T000000
DTEND;TZID=UTC:20260503T235959
DTSTAMP:20260421T121345
CREATED:20260309T103737Z
LAST-MODIFIED:20260316T144328Z
UID:7158-1777680000-1777852799@fesacocur.es
SUMMARY:V Concurs Sineu 2026
DESCRIPTION:V CONCURS INTERNACIONAL D´AVICULTURA\, COLOMBICULTURA i CUNICULTURA  \nV Concurs morfologic races autóctones \nLas exposiciones se celebrarán en Sineu\, al recinte Des Fossar\, los días 2 y 3 de mayo de 2026. \n \nReglamento
URL:https://fesacocur.es/evento/iv-concurs-sineu-2026/
LOCATION:Sineu
CATEGORIES:Exposiciones y Concursos
ATTACH;FMTTYPE=image/jpeg:https://fesacocur.es/wp-content/uploads/2026/03/PHOTO-2026-03-14-09-21-12.jpg
ORGANIZER;CN="Acaib":MAILTO:Associacioacaib@gmail.com
END:VEVENT
END:VCALENDAR