BEGIN:VCALENDAR
VERSION:2.0
PRODID:-//Fesacocur - ECPv6.15.19//NONSGML v1.0//EN
CALSCALE:GREGORIAN
METHOD:PUBLISH
X-WR-CALNAME:Fesacocur
X-ORIGINAL-URL:https://fesacocur.es
X-WR-CALDESC:Eventos para Fesacocur
REFRESH-INTERVAL;VALUE=DURATION:PT1H
X-Robots-Tag:noindex
X-PUBLISHED-TTL:PT1H
BEGIN:VTIMEZONE
TZID:UTC
BEGIN:STANDARD
TZOFFSETFROM:+0000
TZOFFSETTO:+0000
TZNAME:UTC
DTSTART:20250101T000000
END:STANDARD
END:VTIMEZONE
BEGIN:VEVENT
DTSTART;TZID=UTC:20261024T000000
DTEND;TZID=UTC:20261025T000000
DTSTAMP:20260421T173340
CREATED:20251209T103652Z
LAST-MODIFIED:20251212T095803Z
UID:7144-1792800000-1792886400@fesacocur.es
SUMMARY:VEGADEO 2026
DESCRIPTION:24 y 25 de octubre\nXX Exposición Internacional de Avicultura "La Pinina" - Vegadeo 2026 \nMÁS INFO EN WEB LA PININA.
URL:https://fesacocur.es/evento/vegadeo-2026/
CATEGORIES:Exposiciones y Concursos
ATTACH;FMTTYPE=image/jpeg:https://fesacocur.es/wp-content/uploads/2025/12/PHOTO-2025-11-26-17-43-56.jpg
END:VEVENT
END:VCALENDAR