BEGIN:VCALENDAR
VERSION:2.0
PRODID:-//Fesacocur - ECPv6.15.19//NONSGML v1.0//EN
CALSCALE:GREGORIAN
METHOD:PUBLISH
X-WR-CALNAME:Fesacocur
X-ORIGINAL-URL:https://fesacocur.es
X-WR-CALDESC:Eventos para Fesacocur
REFRESH-INTERVAL;VALUE=DURATION:PT1H
X-Robots-Tag:noindex
X-PUBLISHED-TTL:PT1H
BEGIN:VTIMEZONE
TZID:UTC
BEGIN:STANDARD
TZOFFSETFROM:+0000
TZOFFSETTO:+0000
TZNAME:UTC
DTSTART:20250101T000000
END:STANDARD
END:VTIMEZONE
BEGIN:VEVENT
DTSTART;TZID=UTC:20261105T000000
DTEND;TZID=UTC:20261108T235959
DTSTAMP:20260421T191225
CREATED:20251209T103650Z
LAST-MODIFIED:20251212T100022Z
UID:7140-1793836800-1794182399@fesacocur.es
SUMMARY:XVIII Concurso nacional 2026
DESCRIPTION:5\, 6\, 7 y 8 de noviembre\nXVIII Concurso Nacional de Avicultura\, Colombicultura y Cunicultura de Raza - Gijón\, Asturias
URL:https://fesacocur.es/evento/xviii-concurso-nacional/
LOCATION:Recinto Ferial Luis Adaro\, Gijón\, Asturias\, Spain
CATEGORIES:Exposiciones y Concursos
ATTACH;FMTTYPE=image/jpeg:https://fesacocur.es/wp-content/uploads/2025/12/PHOTO-2025-11-25-15-50-44.jpg
END:VEVENT
END:VCALENDAR