BEGIN:VCALENDAR
VERSION:2.0
PRODID:-//Fesacocur - ECPv6.15.19//NONSGML v1.0//EN
CALSCALE:GREGORIAN
METHOD:PUBLISH
X-WR-CALNAME:Fesacocur
X-ORIGINAL-URL:https://fesacocur.es
X-WR-CALDESC:Eventos para Fesacocur
REFRESH-INTERVAL;VALUE=DURATION:PT1H
X-Robots-Tag:noindex
X-PUBLISHED-TTL:PT1H
BEGIN:VTIMEZONE
TZID:UTC
BEGIN:STANDARD
TZOFFSETFROM:+0000
TZOFFSETTO:+0000
TZNAME:UTC
DTSTART:20210101T000000
END:STANDARD
END:VTIMEZONE
BEGIN:VEVENT
DTSTART;TZID=UTC:20220903T000000
DTEND;TZID=UTC:20220903T000000
DTSTAMP:20260425T152847
CREATED:20250909T103705Z
LAST-MODIFIED:20251001T110517Z
UID:7146-1662163200-1662163200@fesacocur.es
SUMMARY:CALZADA DE VALDUNCIEL 2024
DESCRIPTION:V Concurso - Exposición Internacional de Avicultura y Cunicultura Calzada de Valdunciel\nEnlace a las bases del concurso
URL:https://fesacocur.es/evento/calzada-de-valdunciel-2024/
CATEGORIES:Exposiciones y Concursos
END:VEVENT
END:VCALENDAR