BEGIN:VCALENDAR
VERSION:2.0
PRODID:-//Fesacocur - ECPv6.15.19//NONSGML v1.0//EN
CALSCALE:GREGORIAN
METHOD:PUBLISH
X-ORIGINAL-URL:https://fesacocur.es
X-WR-CALDESC:Eventos para Fesacocur
REFRESH-INTERVAL;VALUE=DURATION:PT1H
X-Robots-Tag:noindex
X-PUBLISHED-TTL:PT1H
BEGIN:VTIMEZONE
TZID:UTC
BEGIN:STANDARD
TZOFFSETFROM:+0000
TZOFFSETTO:+0000
TZNAME:UTC
DTSTART:20240101T000000
END:STANDARD
END:VTIMEZONE
BEGIN:VEVENT
DTSTART;TZID=UTC:20251115T000000
DTEND;TZID=UTC:20251116T235959
DTSTAMP:20260421T000500
CREATED:20250909T103752Z
LAST-MODIFIED:20251026T190123Z
UID:7161-1763164800-1763337599@fesacocur.es
SUMMARY:CANCELADO-VEGADEO 2025
DESCRIPTION:
URL:https://fesacocur.es/evento/vegadeo-2025/
LOCATION:Recinto ferial Vegadeo
CATEGORIES:Exposiciones y Concursos
ATTACH;FMTTYPE=image/jpeg:https://fesacocur.es/wp-content/uploads/2025/10/567716584_1255366743300067_1617787674210426259_n.jpg
END:VEVENT
END:VCALENDAR