BEGIN:VCALENDAR
VERSION:2.0
PRODID:-//Fesacocur - ECPv6.15.19//NONSGML v1.0//EN
CALSCALE:GREGORIAN
METHOD:PUBLISH
X-ORIGINAL-URL:https://fesacocur.es
X-WR-CALDESC:Eventos para Fesacocur
REFRESH-INTERVAL;VALUE=DURATION:PT1H
X-Robots-Tag:noindex
X-PUBLISHED-TTL:PT1H
BEGIN:VTIMEZONE
TZID:UTC
BEGIN:STANDARD
TZOFFSETFROM:+0000
TZOFFSETTO:+0000
TZNAME:UTC
DTSTART:20210101T000000
END:STANDARD
END:VTIMEZONE
BEGIN:VEVENT
DTSTART;TZID=UTC:20260417T000000
DTEND;TZID=UTC:20260419T235959
DTSTAMP:20260425T033334
CREATED:20260208T103738Z
LAST-MODIFIED:20260208T200425Z
UID:7159-1776384000-1776643199@fesacocur.es
SUMMARY:XXI Concurs d´Aviram autócton de les illes Balears /  IX Concurso internacional de Avicultura
DESCRIPTION:XXI Concurso de Avicultura Autóctona de las Islas Baleares\nVIII Concurso Internacional de Avicultura \nLa exposición se celebrará en Santa Eugenia\, los días 17\, 18 y 19 de abril de 2026. El horario de apertura al público será el siguiente:\nDivendres día 17\, De - 16:00h a 19:00h \nDissabte día 18\, De 10:00h a 13:00h- 16:00h a 19:00h \nDiumenge día 19\, - De 09:00h a 14:00h \nCONDICIONS_CONCURS_FIRA_AVIRAM \nFULL_INSCRIPCIONS \n 
URL:https://fesacocur.es/evento/xxi-concurso-de-avicultura-autoctona-de-las-islas-baleares-viii-concurso-internacional-de-avicultura/
LOCATION:Natura Park Ayuntamiento de Santa Eugenia.\, Spain
CATEGORIES:Exposiciones y Concursos
ATTACH;FMTTYPE=image/jpeg:https://fesacocur.es/wp-content/uploads/2026/02/PHOTO-2026-02-06-15-30-38.jpg
ORGANIZER;CN="Fundaci%C3%B3 Natura Parc":MAILTO:projectes@fundacionaturaparc.org
END:VEVENT
BEGIN:VEVENT
DTSTART;TZID=UTC:20260117T000000
DTEND;TZID=UTC:20260118T235959
DTSTAMP:20260425T033334
CREATED:20251209T103421Z
LAST-MODIFIED:20260108T204813Z
UID:7093-1768608000-1768780799@fesacocur.es
SUMMARY:XXXIV Exposició Internacional d’Aus de Raça “Ciutat de Valls”
DESCRIPTION:XXXIV Exposició- Concurs Internacional d’Aus de Raça “Ciutat de Valls”\n-> DESCARGAR REGLAMENTO <- \n \nLas inscripciones se tendrán que hacer online a través de programa de gestión de exposiciones: www.exposicionesavicolas.com  y elegir la opción “ El Francoli”
URL:https://fesacocur.es/evento/xxxiv-exposicio-internacional-daus-de-raca-ciutat-de-valls/
LOCATION:sala Kursaal de Valls\, Valls\, Spain
CATEGORIES:Exposiciones y Concursos
ATTACH;FMTTYPE=image/jpeg:https://fesacocur.es/wp-content/uploads/2025/12/1f370b85-d642-41d8-8914-8c7d4d6c2d8e.jpg
END:VEVENT
BEGIN:VEVENT
DTSTART;TZID=UTC:20251213T000000
DTEND;TZID=UTC:20251214T235959
DTSTAMP:20260425T033334
CREATED:20251209T103752Z
LAST-MODIFIED:20251212T095425Z
UID:7162-1765584000-1765756799@fesacocur.es
SUMMARY:APLAZADO AVIVAL 2025
DESCRIPTION:XVII Exposición Avicultura\, Colombicultura y Cunicultura de Raza\n 
URL:https://fesacocur.es/evento/avival-2025/
LOCATION:Polideportivo Álvaro López Cremades\, Tibi Alicante\, Spain
CATEGORIES:Exposiciones y Concursos
ATTACH;FMTTYPE=image/jpeg:https://fesacocur.es/wp-content/uploads/2025/12/PHOTO-2025-11-18-22-02-01.jpg
END:VEVENT
BEGIN:VEVENT
DTSTART;TZID=UTC:20251205T000000
DTEND;TZID=UTC:20251207T235959
DTSTAMP:20260425T033334
CREATED:20250909T103805Z
LAST-MODIFIED:20251104T213300Z
UID:7165-1764892800-1765151999@fesacocur.es
SUMMARY:CANCELADO- ALBELDAIREGUA 2025
DESCRIPTION:XI EXPOSICIÓN AVICOLA y X CONCURSO DE AVICULTURA de ALBELDA DE IREGUA (LA RIOJA)
URL:https://fesacocur.es/evento/albeldairegua-2025/
LOCATION:Albelda de iregua\, La Rioja
CATEGORIES:Exposiciones y Concursos
ATTACH;FMTTYPE=image/jpeg:https://fesacocur.es/wp-content/uploads/2025/09/cc7f6682-d1f2-4733-a6d5-de8bc444184e.jpeg
END:VEVENT
BEGIN:VEVENT
DTSTART;TZID=UTC:20251115T000000
DTEND;TZID=UTC:20251116T235959
DTSTAMP:20260425T033334
CREATED:20250909T103752Z
LAST-MODIFIED:20251026T190123Z
UID:7161-1763164800-1763337599@fesacocur.es
SUMMARY:CANCELADO-VEGADEO 2025
DESCRIPTION:
URL:https://fesacocur.es/evento/vegadeo-2025/
LOCATION:Recinto ferial Vegadeo
CATEGORIES:Exposiciones y Concursos
ATTACH;FMTTYPE=image/jpeg:https://fesacocur.es/wp-content/uploads/2025/10/567716584_1255366743300067_1617787674210426259_n.jpg
END:VEVENT
BEGIN:VEVENT
DTSTART;TZID=UTC:20251107T000000
DTEND;TZID=UTC:20251109T235959
DTSTAMP:20260425T033334
CREATED:20250909T103750Z
LAST-MODIFIED:20251001T105837Z
UID:7160-1762473600-1762732799@fesacocur.es
SUMMARY:European Animal Exhibition 2025 Nitra
DESCRIPTION:shows
URL:https://fesacocur.es/evento/european-animal-exhibition-2025-nitra/
LOCATION:Nitra\, Slovakia (Slovak Republic)
CATEGORIES:Exposiciones y Concursos
ATTACH;FMTTYPE=image/webp:https://fesacocur.es/wp-content/uploads/2025/09/cartel-European-Animal-Exhibition-2025-Nitra.webp
END:VEVENT
BEGIN:VEVENT
DTSTART;TZID=UTC:20251101T000000
DTEND;TZID=UTC:20251102T235959
DTSTAMP:20260425T033334
CREATED:20251009T122458Z
LAST-MODIFIED:20251009T122843Z
UID:7852-1761955200-1762127999@fesacocur.es
SUMMARY:CANCELADA- Torrelavega 2025
DESCRIPTION:XI EXPOSICIÓN AVÍCOLA CIUDAD DE TORRELAVEGA \nBases 2025
URL:https://fesacocur.es/evento/cancelada-torrelavega-2025/
LOCATION:Mercado Nacional de Ganados “Jesús Collado Soto”\, (Torrelavega- Cantabria)\, Spain
CATEGORIES:Exposiciones y Concursos
ATTACH;FMTTYPE=image/jpeg:https://fesacocur.es/wp-content/uploads/2025/10/xi-Torrelavega-2025.jpg
END:VEVENT
BEGIN:VEVENT
DTSTART;TZID=UTC:20251030T000000
DTEND;TZID=UTC:20251102T235959
DTSTAMP:20260425T033334
CREATED:20251009T121645Z
LAST-MODIFIED:20251009T123206Z
UID:7847-1761782400-1762127999@fesacocur.es
SUMMARY:Rio Tajo 2025- Cazalegas
DESCRIPTION:IV CONCURSO EXPOSICIÓN DE AVICULTURA CONSERVACIONISTA EN CAZALEGAS\n  \nDescargar aquí el -> Reglamento \nDescargar aquí la -> Hoja de Inscripción \n \nINFORMACIÓN COMPLETA DESCARGANDO EL REGLAMENTO ADJUNTO AL INICIO
URL:https://fesacocur.es/evento/rio-tajo-2025-cazalegas/
LOCATION:Polideportivo Municipal Cazalegas\, calle Albacete s/n (CP:45683-TOLEDO)\, Spain
CATEGORIES:Exposiciones y Concursos
ATTACH;FMTTYPE=image/jpeg:https://fesacocur.es/wp-content/uploads/2025/10/Rio-Tajo-2025-Cazalegas.jpg
END:VEVENT
BEGIN:VEVENT
DTSTART;TZID=UTC:20251024T000000
DTEND;TZID=UTC:20251026T235959
DTSTAMP:20260425T033334
CREATED:20251009T120257Z
LAST-MODIFIED:20251026T190609Z
UID:7839-1761264000-1761523199@fesacocur.es
SUMMARY:SUSPENDIDA - X Certamen Avícola Ciudad de Tafalla
DESCRIPTION:Tafallako Hegazti Lehiaketa\n\n\n\n\n\n\n\n\n\n\n\nBASES
URL:https://fesacocur.es/evento/x-certamen-avicola-ciudad-de-tafalla/
LOCATION:Reciento Ferial de Tafalla\, Spain
CATEGORIES:Exposiciones y Concursos
ATTACH;FMTTYPE=image/jpeg:https://fesacocur.es/wp-content/uploads/2025/09/Imagen-de-WhatsApp-2025-10-22-a-las-20.16.42_b0421472.jpg
END:VEVENT
BEGIN:VEVENT
DTSTART;TZID=UTC:20250925T000000
DTEND;TZID=UTC:20250928T235959
DTSTAMP:20260425T033334
CREATED:20250909T103735Z
LAST-MODIFIED:20251001T105837Z
UID:7155-1758758400-1759103999@fesacocur.es
SUMMARY:AGROPEC 2025
DESCRIPTION:Reglamento
URL:https://fesacocur.es/evento/agropec-2025/
LOCATION:Recinto Ferial Luis Adaro\, Gijón\, Asturias\, Spain
CATEGORIES:Exposiciones y Concursos
ATTACH;FMTTYPE=image/webp:https://fesacocur.es/wp-content/uploads/2025/09/cartel-AGROPEC-2025.webp
END:VEVENT
BEGIN:VEVENT
DTSTART;TZID=UTC:20250222T000000
DTEND;TZID=UTC:20250223T235959
DTSTAMP:20260425T033334
CREATED:20250909T103722Z
LAST-MODIFIED:20251001T105837Z
UID:7154-1740182400-1740355199@fesacocur.es
SUMMARY:CLUB COMBATIENTES - La Carlota\, Córdoba 2025
DESCRIPTION:Reglamento e inscripciones
URL:https://fesacocur.es/evento/club-combatientes-la-carlota-cordoba-2025/
LOCATION:Polideportivo El Arrecife - La Carlota\, Córdoba\, Andalucía
CATEGORIES:Exposiciones y Concursos
ATTACH;FMTTYPE=image/webp:https://fesacocur.es/wp-content/uploads/2025/09/cartel-combatientes.webp
END:VEVENT
BEGIN:VEVENT
DTSTART;TZID=UTC:20250124T100000
DTEND;TZID=UTC:20250126T140000
DTSTAMP:20260425T033334
CREATED:20250909T103721Z
LAST-MODIFIED:20251001T105837Z
UID:7153-1737712800-1737900000@fesacocur.es
SUMMARY:XI Campeonato Internacional y IX Campeonato de Castilla y León de Razas Autóctonas Españolas "Ledesma”
DESCRIPTION:  \n≥           DESCARGAR REGLAMENTO          ≤ \n  \n 
URL:https://fesacocur.es/evento/xi-campeonato-internacional-y-ix-campeonato-de-castilla-y-leon-de-razas-autoctonas-espanolas-ledesma/
LOCATION:Pabellón municipal\, Ledesma\, Salamanca\, Spain
CATEGORIES:Exposiciones y Concursos
ATTACH;FMTTYPE=image/webp:https://fesacocur.es/wp-content/uploads/2025/09/cartel-ledesma.webp
ORGANIZER;CN="Asociaci%C3%B3n Avicola Alba de Tormes":MAILTO:avicoalbatormes@hotmail.com
END:VEVENT
BEGIN:VEVENT
DTSTART;TZID=UTC:20241101T000000
DTEND;TZID=UTC:20241102T235959
DTSTAMP:20260425T033334
CREATED:20250909T103651Z
LAST-MODIFIED:20251001T105837Z
UID:7143-1730419200-1730591999@fesacocur.es
SUMMARY:Torrelavega 2025
DESCRIPTION:XI EXPOSICIÓN AVÍCOLA CIUDAD DE TORRELAVEGA \nBases 2025
URL:https://fesacocur.es/evento/torrelavega-2025/
LOCATION:Mercado Nacional de Ganados “Jesús Collado Soto”\, (Torrelavega- Cantabria)\, Spain
CATEGORIES:Exposiciones y Concursos
ATTACH;FMTTYPE=image/webp:https://fesacocur.es/wp-content/uploads/2025/09/cartel-Torrelavega-2025.webp
END:VEVENT
BEGIN:VEVENT
DTSTART;TZID=UTC:20240522T000000
DTEND;TZID=UTC:20240522T000000
DTSTAMP:20260425T033334
CREATED:20250909T103753Z
LAST-MODIFIED:20251001T105837Z
UID:7163-1716336000-1716336000@fesacocur.es
SUMMARY:Torrelavega 2024
DESCRIPTION:Bases 2024
URL:https://fesacocur.es/evento/torrelavega-2024/
CATEGORIES:Exposiciones y Concursos
END:VEVENT
BEGIN:VEVENT
DTSTART;TZID=UTC:20240522T000000
DTEND;TZID=UTC:20240522T000000
DTSTAMP:20260425T033334
CREATED:20250909T103705Z
LAST-MODIFIED:20251001T105837Z
UID:7145-1716336000-1716336000@fesacocur.es
SUMMARY:Valderrible 2024
DESCRIPTION:  \n \nReglamento aquí
URL:https://fesacocur.es/evento/valderrible-2024/
CATEGORIES:Exposiciones y Concursos
END:VEVENT
BEGIN:VEVENT
DTSTART;TZID=UTC:20240426T000000
DTEND;TZID=UTC:20240426T000000
DTSTAMP:20260425T033334
CREATED:20250909T103707Z
LAST-MODIFIED:20251001T105837Z
UID:7148-1714089600-1714089600@fesacocur.es
SUMMARY:AVICIUCER 2024
DESCRIPTION:Reglamento e inscripciones
URL:https://fesacocur.es/evento/aviciucer-2024/
CATEGORIES:Exposiciones y Concursos
END:VEVENT
BEGIN:VEVENT
DTSTART;TZID=UTC:20240426T000000
DTEND;TZID=UTC:20240426T000000
DTSTAMP:20260425T033334
CREATED:20250909T103651Z
LAST-MODIFIED:20251001T105837Z
UID:7142-1714089600-1714089600@fesacocur.es
SUMMARY:ALBELDAIREGUA 2024
DESCRIPTION:
URL:https://fesacocur.es/evento/albeldairegua-2024/
CATEGORIES:Exposiciones y Concursos
END:VEVENT
BEGIN:VEVENT
DTSTART;TZID=UTC:20240308T000000
DTEND;TZID=UTC:20240308T000000
DTSTAMP:20260425T033334
CREATED:20250909T103650Z
LAST-MODIFIED:20251001T105837Z
UID:7141-1709856000-1709856000@fesacocur.es
SUMMARY:AGROPEC 2024
DESCRIPTION:  \n \nINSCRIPCIONES <Aqui \nReglamento Exposición AGROPEC 2024
URL:https://fesacocur.es/evento/agropec-2024/
CATEGORIES:Exposiciones y Concursos
END:VEVENT
BEGIN:VEVENT
DTSTART;TZID=UTC:20240219T000000
DTEND;TZID=UTC:20240219T000000
DTSTAMP:20260425T033334
CREATED:20250909T103737Z
LAST-MODIFIED:20250917T104815Z
UID:7157-1708300800-1708300800@fesacocur.es
SUMMARY:XVII Concurso nacional
DESCRIPTION:PALMARÉS  aqui
URL:https://fesacocur.es/evento/xvii-concurso-nacional/
CATEGORIES:Exposiciones y Concursos
END:VEVENT
BEGIN:VEVENT
DTSTART;TZID=UTC:20231109T000000
DTEND;TZID=UTC:20231109T000000
DTSTAMP:20260425T033334
CREATED:20250909T103706Z
LAST-MODIFIED:20250909T103706Z
UID:7147-1699488000-1699488000@fesacocur.es
SUMMARY:CASTILBLANCO DE LOS ARROYOS 2024
DESCRIPTION:VII Feria Avícola\nConcurso de Morfología y Pluma de Raza Sureña Según Patrón \nbases concurso
URL:https://fesacocur.es/evento/castilblanco-de-los-arroyos-2024/
END:VEVENT
BEGIN:VEVENT
DTSTART;TZID=UTC:20231109T000000
DTEND;TZID=UTC:20231109T000000
DTSTAMP:20260425T033334
CREATED:20250909T103636Z
LAST-MODIFIED:20250909T103636Z
UID:7139-1699488000-1699488000@fesacocur.es
SUMMARY:CASTILBLANCO DE LOS ARROYOS 2023
DESCRIPTION:VI Feria Avícola\nConcurso de Morfología y Pluma de Raza Sureña Según Patrón
URL:https://fesacocur.es/evento/castilblanco-de-los-arroyos-2023/
END:VEVENT
BEGIN:VEVENT
DTSTART;TZID=UTC:20230629T000000
DTEND;TZID=UTC:20230629T000000
DTSTAMP:20260425T033334
CREATED:20250909T103620Z
LAST-MODIFIED:20250909T103620Z
UID:7130-1687996800-1687996800@fesacocur.es
SUMMARY:AGROPEC 2023
DESCRIPTION:XIX FERIA INTERNACIONAL DE AVICULTURA\, COLOMBICULTURA Y CUNICULTURA DE RAZA\nDescargar documentos: REGLAMENTO
URL:https://fesacocur.es/evento/agropec-2023/
END:VEVENT
BEGIN:VEVENT
DTSTART;TZID=UTC:20230629T000000
DTEND;TZID=UTC:20230629T000000
DTSTAMP:20260425T033334
CREATED:20250909T103607Z
LAST-MODIFIED:20250909T103607Z
UID:7128-1687996800-1687996800@fesacocur.es
SUMMARY:Valderredible 2023
DESCRIPTION:IV Campeonato Regional de Raza Pedreza / Exposición Avícola de Valderredible
URL:https://fesacocur.es/evento/valderredible-2023/
END:VEVENT
BEGIN:VEVENT
DTSTART;TZID=UTC:20230629T000000
DTEND;TZID=UTC:20230629T000000
DTSTAMP:20260425T033334
CREATED:20250909T103607Z
LAST-MODIFIED:20250909T103607Z
UID:7129-1687996800-1687996800@fesacocur.es
SUMMARY:AVICIUCER 2023
DESCRIPTION:
URL:https://fesacocur.es/evento/aviciucer-2023/
END:VEVENT
BEGIN:VEVENT
DTSTART;TZID=UTC:20230415T000000
DTEND;TZID=UTC:20230415T000000
DTSTAMP:20260425T033334
CREATED:20250909T103606Z
LAST-MODIFIED:20250909T103606Z
UID:7127-1681516800-1681516800@fesacocur.es
SUMMARY:XVI CONCURSO NACIONAL JEREZ DE LA FRONTERA
DESCRIPTION:XVI Concurso Nacional Jerez de la Frontera Y Campeonato de Europa Razas Españolas "Jerez 2023"\nDescargar documentos: REGLAMENTO \n  \n     \n  \nSíguenos en
URL:https://fesacocur.es/evento/xvi-concurso-nacional-jerez-de-la-frontera/
END:VEVENT
BEGIN:VEVENT
DTSTART;TZID=UTC:20221027T000000
DTEND;TZID=UTC:20221027T000000
DTSTAMP:20260425T033334
CREATED:20250909T103606Z
LAST-MODIFIED:20250909T103754Z
UID:7126-1666828800-1666828800@fesacocur.es
SUMMARY:IBERAVIS 2022
DESCRIPTION:VII Exposición Avícola de la Rioja  y VI Concurso de Avicultura\nDescarga Información sobre IBERAVIS 2022\nDescargar: Reglamento \n 
URL:https://fesacocur.es/evento/iberavis-2022/
END:VEVENT
BEGIN:VEVENT
DTSTART;TZID=UTC:20221002T000000
DTEND;TZID=UTC:20221002T000000
DTSTAMP:20260425T033334
CREATED:20250909T103635Z
LAST-MODIFIED:20250909T103635Z
UID:7135-1664668800-1664668800@fesacocur.es
SUMMARY:TORRELAVEGA 2023
DESCRIPTION:IX EXPOSICIÓN AVICOLA "CIUDAD DE TORRELAVEGA"
URL:https://fesacocur.es/evento/torrelavega-2023/
END:VEVENT
BEGIN:VEVENT
DTSTART;TZID=UTC:20221002T000000
DTEND;TZID=UTC:20221002T000000
DTSTAMP:20260425T033334
CREATED:20250909T103621Z
LAST-MODIFIED:20250909T103621Z
UID:7132-1664668800-1664668800@fesacocur.es
SUMMARY:Rio Tajo 2022
DESCRIPTION:XXVII CONCURSO EXPOSICIÓN DE ASOCIACIÓN RIO TAJO AVICULTURA CONSERVACIONISTA EN CAZALEGAS\n  \nDescargar aquí el -> Reglamento \nDescargar aquí la -> Hoja de Inscripción \n  \nLUGAR Y FECHA:\nLa exposición se celebrará en el polideportivo Municipal CAZALEGAS\, ubicado en la calle Albacete s/n (CP:45683-TOLEDO)\, los días 29\,30\,31 de Octubre Y 1 de Noviembre de 2022. \n\nORGANIZACIÓN:\nLa organización irá a cargo ASOCIACIÓN RIO TAJO (Asociación rio tajo de avicultura conservacionista) y del Excelentísimo Ayuntamiento de Cazalegas. \nINFORMACIÓN:\nLa organización le recomienda para poder acomodarse en la zona: El Hostal Cazalegas y Casa Rural La Malena \nINSCRIPCIONES:\nLas inscripciones tendrán que estar en poder de la Organización antes del día 14 de Octubre de 2022 a las 23:00 horas\, mediante una hoja de inscripción\, que se les facilitaran por la organización a todos los interesados\, y deberá ser remitido a la siguiente dirección de correo electrónico: asoc.riotajodeavicultura@hotmail.com\nEl importe de la inscripción será de 2€ por animal. Los socios 1€ y estarán exentos de pago por los 10 primeros animales. Las inscripciones de palomas Buchonas Españolas será de 4€ por animal. El expositor deberá ingresar el importe correspondiente en la cuenta de la Asociación Río Tajo de Avicultura\,\nES59 3081 0173 2850 0001 2988 en concepto\, Exposición de Cazalegas\, y nombre del expositor.\nTambién se podrá abonar durante los Días de la Exposición en la Oficina de la Asociación Río Tajo de Avicultura. \nINFORMACIÓN COMPLETA DESCARGANDO EL REGLAMENTO ADJUNTO AL INICIO
URL:https://fesacocur.es/evento/rio-tajo-2022/
END:VEVENT
BEGIN:VEVENT
DTSTART;TZID=UTC:20221002T000000
DTEND;TZID=UTC:20221002T000000
DTSTAMP:20260425T033334
CREATED:20250909T103621Z
LAST-MODIFIED:20250909T103621Z
UID:7133-1664668800-1664668800@fesacocur.es
SUMMARY:Rio Tajo 2023
DESCRIPTION:XXVIII CONCURSO EXPOSICIÓN DE ASOCIACIÓN RIO TAJO AVICULTURA CONSERVACIONISTA
URL:https://fesacocur.es/evento/rio-tajo-2023/
END:VEVENT
BEGIN:VEVENT
DTSTART;TZID=UTC:20221002T000000
DTEND;TZID=UTC:20221002T000000
DTSTAMP:20260425T033334
CREATED:20250909T103605Z
LAST-MODIFIED:20250909T103605Z
UID:7125-1664668800-1664668800@fesacocur.es
SUMMARY:TORRELAVEGA 2022
DESCRIPTION:IX EXPOSICIÓN AVICOLA "CIUDAD DE TORRELAVEGA"\nX CAMPEONATO DE RAZAS AUTÓCTONAS DEL CANTÁBRICO \n“IV MONOGRÁFICO DE GALLINA CÁNTABRA” \n  \n  \nREGLAMENTO Y BASES \nLUGAR Y FECHA: \n       La exposición se celebrará en el Mercado Nacional de Ganados “Jesús Collado Soto” en Torrelavega (Cantabria)\, los días 4\, 5 y 6 de noviembre de 2022. \nCONDICIONES GENERALES: \nLa exposición se desarrollará según los reglamentos y las normas que expresamente establezca la organización. \nORGANIZACIÓN:  \nLa organización irá a cargo de ARABACANT. \nLa Exposición-concurso\, se regirá bajo la normativa EE/FESACOCUR. \nCualquier incidencia que se presente y esté prevista en este reglamento\, así como las dudas que pudiera suscitar en la interpretación del mismo\, serán resueltas por la asociación organizadora. \nHORARIO:  \n                   El sábado día 5\, inauguración a las 10:00 horas\, permaneciendo abierto hasta las 19:30 horas. El domingo día 6 será de 10:00 a 14:00 horas. \nANIMALES PARTICIPANTES: \n\nGallinas grandes y enanas; expuestas de manera individual\, pareja o trio.\nSilvestres criadas en cautividad y correctamente anilladas (faisanes\, codornices\, tórtolas…)\nAnátidas tanto individual o pareja. Estarán compuesto por animales de la misma raza y color.\nPalomas de raza\, tanto individual o pareja; siendo siempre de la misma raza y color.\nConejos y cobayas presentados de forma individual. Solo se pueden exponer razas con estándar.\n\nLa edad máxima permitida de los animales es de 6 años (ANILLA 2017). En caso de superar dicha edad serán descalificados\, al igual que los animales jóvenes que no estén completamente desarrollados. No se permitirán animales que por su juventud entre y salga la anilla de su pata (no serán valorados). \nTodos los animales que se presenten dentro de una misma jaula tendrán que ser obligatoriamente de la misma raza y color\, de lo contrario la jaula no será valorada. \nTodas las aves silvestres que estén criadas en cautividad estarán debidamente anilladas. \nLas anillas personales serán tapadas\, en caso contrario el animal no será valorado. \nTODOS LOS EJEMPLARES TENDRÁN QUE LLEGAR PROVISTOS DE SU CORRESPONDIENTE GUIA SANITARIA. \nEl CEA del Mercado nacional de ganados de Torrelavega es ES390870001016 \n  \n  \nINSCRIPCIONES: \nLos animales podrán ser inscritos a nombre de un criador\, asociación o de cualquier entidad pública\, social o comercial. \nEl plazo de inscripción comienza el lunes 26 de septiembre y finaliza el viernes 21 de octubre de 2022 a las 24:00 horas. \nEl precio de la inscripción será de 1€ animal para socios de ARABACANT y 3€ animal para los no socios. \nAquellas inscripciones que lleguen fuera de plazo no serán admitidas. \nCada criador recibirá un listado de sus animales inscritos con el número de jaula correspondiente\, una vez se hayan asignado. \nLa forma de inscribirse es vía on-line a: arabacant.exposicionesavicolas.com. \nEl criador deberá ingresar el importe correspondiente al total de la inscripción en la cuenta de ARABACANT de: CaixaBank:ES 73 2100 7029 4102 0019 7378 \nEn el apartado concepto pondrá Inscripción y nombre del socio o criador. \nLa organización se reserva el derecho de rechazar\, total o parcialmente\, las inscripciones\, previa comunicación a los interesados\, si causas de alojamiento así lo obligaran. En caso de que alguno de los animales inscritos\, por circunstancias de enfermedad o muerte\, etc\, causase baja\, el propietario tendrá la obligación de reponerlo por otro de la misma raza y color\, o comunicarlo a la organización\, de lo contrario la jaula será descalificada. \nENVIO DE ANIMALES Y CONTROL VETERINARIO: \nLos animales enviados por agencia de transporte se recepcionaran el jueves 3 de noviembre\, a nombre de ARABACANT para su entrega en el Mercado Nacional de Ganado de Torrelavega. Los portes vendrán pagados. \nEn cada trasportín o departamento se indicará la raza y número de jaula que le corresponde a cada animal\, así como su número de anilla; en el caso de poner varios animales de la misma raza\, habrá que indicar el número de anilla de cada animal. \nLa entrega directa de los animales en el recinto de la Exposición se llevará a cabo el jueves día 3 de 10:00 horas a 14:00 y de 16:00 a 20:00 horas. \nTodos los animales irán acompañados de la correspondiente Guía de Origen y Sanidad y/o certificados sanitarios que puedan exigirse en su momento. \nDurante el lunes y martes siguientes a la exposición\, la organización devolverá aquellos animales expuestos que no hayan sido recogidos por sus propietarios. El propietario deberá abonar\, previamente a la Asociación organizadora el coste de su envío. Si el propietario no se hiciera cargo de los animales perderá el derecho sobre ellos. \n  \n  \nENJUICIAMIENTO: \nLos animales serán valorados por jueces oficiales de FESACOCUR. El enjuiciamiento se realizará el viernes 4. \nCESIÓN DE ANIMALES \nLos animales inscritos podrán cederse como excedente indicando en la hoja de inscripción su valor. Dicho valor\, fijado por el criador\, será incrementado en un 15% en concepto de comisión por los gastos originados del montaje\, alojamiento\, enjuiciamiento y demás cargos que conlleva la organización \nEsta terminante prohibido sacar los animales de sus jaulas\, incluso por los propietarios. Las cesiones de los animales se harán a través de la Asociación organizadora\, rellenando previamente la tarjeta de pedido. \nARABACANT es la mediadora de la cesión de animales entre el criador y el cesionario\, por lo que\, únicamente\, interviene en las transacciones que pueda haber entre éstos a modo de gestión. \nLa cesión de animales estará abierta para los socios colaboradores el viernes día 4 de 15:00 a 17:00 del mismo viernes para socios y expositores. De 17:00 a 19:00 para el resto de socios. En cualquier caso\, no se superarán las 4 jaulas en total. \nDesde la apertura de la muestra\, el sábado a las 10:00 de la mañana y hasta el domingo a las 13:00 estará abierta la adquisición para el resto de los aficionados. Las liquidaciones de las cesiones se harán a la hora de recoger los animales al término de la Exposición. \nRECOGIDA DE ANIMALES: \nLos animales cedidos podrán retirarse el domingo día 6 a partir de las 14:00 horas. (Teniendo prioridad según distancia). Es obligatorio ir acompañado de un responsable de la organización y presentar la hoja de liquidación que será expedida por la oficina de cesiones. \nRESPONSABILIDADES \nLa organización no se responsabiliza del desgaste\, heridas o muerte que se produzca antes\, durante y después de la Exposición. En el transcurso de la exposición se prohíbe traer al recinto presencia de animales que supongan peligro para los allí expuestos (perros…) En caso de extravío durante la exposición se abonará 25€ animal esté o no sujeto a cesión. \nEl simple hecho de inscribir animales en la exposición\, significa que se ha leído el reglamento y se aceptan sus normas\, así como las que la organización pueda tomar en circunstancias no previstas. \nPREMIOS DEL X CAMPEONATO DE RAZAS AUTÓCTONAS DEL CANTÁBRICO \n\nSerán objeto de premio siempre que haya un mínimo de 20 aves por raza.\nEn ocas siempre que se reúnan un mínimo de 10 ejemplares.\nEntrega de premios\, domingo día 6 de noviembre a las 12:00 horas en el Recinto Ferial.\n\n  \n1º Mejor macho raza EuskalOiloa. (trofeo y diploma) \n1ºMejor hembra raza EuskalOiloa. (trofeo y diploma)) \n2º Mejor macho raza EuskalOiloa (diploma) \n2º Mejor hembra raza EuskalOiloa (diploma) \n  \n1º Mejor macho raza Pedresa (trofeo y diploma)) \n1º Mejor hembra raza Pedresa (trofeo y diploma) \n2º Mejor macho raza Pedresa (diploma) \n2º Mejor hembra raza Pedresa (diploma) \n  \n1º Mejor macho raza Pita Pinta (trofeo y diploma) \n1º Mejor hembra raza Pita Pinta (trofeo y diploma) \n2º Mejor macho raza Pita Pinta (diploma) \n2º Mejor hembra raza Pita Pinta (diploma) \n  \n1º Mejor macho raza Piñeira (trofeo y diploma) \n1º Mejor hembra raza Piñeira (trofeo y diploma)) \n2º Mejor macho raza Piñeira (diploma)) \n2º Mejor hembra raza Piñeira (diploma) \n  \n1º Mejor macho raza Mos (trofeo y diploma) \n1º Mejor hembra raza Mos (trofeo y diploma) \n2ºMejor macho raza Mos (diploma) \n2º Mejor hembra raza Mos (diploma) \n  \n1º Mejor macho raza EuskalAntzara (trofeo y diploma) \n1º Mejor hembra raza EuskalAntzara (trofeo y diploma) \n2º Mejor macho raza EuskalAntzara (diploma) \n2º Mejor hembra raza EuskalAntzara (diploma) \n  \nPREMIOS IX EXPOSICIÓN AVÍCOLA “CIUDAD DE TORRELAVEGA” \nMejor ejemplar de la Exposición \nMejor ejemplar de Anátida de la Exposición. \nMejor ejemplar de Anátida (más de 20 ejemplares de anátidas) \nMejor ejemplar de Silvestre (más de 20 ejemplares de silvestres) \nMejor ejemplar de Gallina/ gallo Raza Extranjera \nMejor Gallo/Gallina Extranjera raza grande \nMejor Gallo/Gallina Extranjera raza enana \nMejor Gallo/Gallina Nacional. \nMejor Gallo/Gallina Nacional raza grande \nMejor Gallo/Gallina Nacional raza enana \nMejor ejemplar de gallina por razas (más de 20 ejemplares) \nMejor ejemplar de gallo por razas (más de 20 ejemplares) \nMejor de Paloma de la Exposición \nMejor ejemplar de paloma por grupo (más de 20 animales) \nMejor conejo de la exposición \nMejor ejemplar de conejo por raza (más de 10 animales) \n  \n  \nIV MONOGRÁFICO DE GALLINA CÁNTABRA \n  \nSerán objeto de premio siempre que haya un mínimo de 20 aves por raza. \n  \n1º Mejor Macho “Gallina Cántabra” \n2º Mejor Macho “Gallina Cántabra” \n3º Mejor Macho “Gallina Cántabra” \n  \n1º Mejor Hembra “Gallina Cántabra” \n2º Mejor Hembra “Gallina Cántabra” \n3º Mejor Hembra “Gallina Cántabra” \n  \n1º Mejor ejemplar de la raza \n  \n  \nPROTECCIÓN DE DATOS: De acuerdo con lo establecido en el Reglamento de Protección de datos 2016/679(RGPD) y la Ley Orgánica 3/2018\, del 5 de diciembre\, de protección de datos personales y Garantía de los derechos Digitales\, le informamos que trataremos sus datos personales con la finalidad que le indicaremos dentro de este punto. Los datos proporcionados se conservarán mientras se mantenga la relación o durante el tiempo necesario para cumplir con las obligaciones legales. Los datos no se cederán a terceros salvo en los casos en que exista una obligación legal y los trataremos en base a su consentimiento. Asimismo\, le informamos una vez terminada la exposición\, de la posibilidad de ejercer los siguientes derechos sobre los datos personales: derecho de acceso\, rectificación\, supresión u olvido\, limitación\, oposición\, portabilidad y a retirar el consentimiento prestado. Para tal fin\, le indicaremos una dirección de email y una dirección postal. Además\, el interesado podrá dirigirse a la Autoridad de Control en materia de Protección de Datos competente para obtener información adicional o presentar una reclamación. CONSENTIMIENTO Al realizar la inscripción\, usted acepta el tratamiento de sus datos para los fines que le indicamos seguidamente. La finalidad y uso previsto de los datos en sí mismos\, como de su tratamiento\, es prestarle el servicio solicitado. A continuación le mostramos las finalidades que encontrará. Tenga en cuenta que algunas finalidades pueden ser necesarias para poder prestarle el servicio. En caso de no aceptarlo\, no se podrá prestar el servicio: A.- Inscripción de animales. B.- Incluir su nombre en los catálogos de la exposición\, así como en las redes sociales creadas para tal fin. C.-Recuerde que si usted inscribe un menor al concurso\, usted debe ser el padre o tutor legal del niño o niña y que\, a su vez\, otorga los permisos para el tratamiento de los datos del menor para los mismo fines y usos que los de un adulto\, incluidos en el punto B de este apartado. D.-Envío de información sobre las actividades de la Asociación. Contacto: arabacan55@outlook.es Dirección Postal: Mercado Nacional de Ganado “Jesús Collado Soto” 39300 Torrelavega.
URL:https://fesacocur.es/evento/torrelavega-2022/
END:VEVENT
END:VCALENDAR