BEGIN:VCALENDAR
VERSION:2.0
PRODID:-//Fesacocur - ECPv6.15.19//NONSGML v1.0//EN
CALSCALE:GREGORIAN
METHOD:PUBLISH
X-ORIGINAL-URL:https://fesacocur.es
X-WR-CALDESC:Eventos para Fesacocur
REFRESH-INTERVAL;VALUE=DURATION:PT1H
X-Robots-Tag:noindex
X-PUBLISHED-TTL:PT1H
BEGIN:VTIMEZONE
TZID:UTC
BEGIN:STANDARD
TZOFFSETFROM:+0000
TZOFFSETTO:+0000
TZNAME:UTC
DTSTART:19690101T000000
END:STANDARD
END:VTIMEZONE
BEGIN:VEVENT
DTSTART;TZID=UTC:20160927T000000
DTEND;TZID=UTC:20160927T000000
DTSTAMP:20260425T183039
CREATED:20250909T103135Z
LAST-MODIFIED:20250909T103135Z
UID:7038-1474934400-1474934400@fesacocur.es
SUMMARY:AVICOR16 - Feria Avícola de Córdoba
DESCRIPTION:[button link="Descargar Programa" color="red" size="normal" title="Descargar Programa" target="_blank" rel="nofollow"]Descargar Programa AVICOR[/button] \n  \n[button link="Hoja Inscripción Palomos" color="red" size="normal" title="Hoja Inscripción Palomos" target="_blank" rel="nofollow"]Hoja Inscripción Palomos [/button] \n  \n[button link="Hoja Inscripción Avicultura" color="red" size="normal" title="Hoja Inscripción Avicultura" target="_blank" rel="nofollow"]Hoja InscripciónAvicultura [/button]
URL:https://fesacocur.es/evento/avicor16-feria-avicola-de-cordoba/
END:VEVENT
BEGIN:VEVENT
DTSTART;TZID=UTC:20160927T000000
DTEND;TZID=UTC:20160927T000000
DTSTAMP:20260425T183039
CREATED:20250909T103135Z
LAST-MODIFIED:20250909T103135Z
UID:7039-1474934400-1474934400@fesacocur.es
SUMMARY:20 Exposición Internacional de Aves - Camallera 2016
DESCRIPTION:
URL:https://fesacocur.es/evento/20-exposicion-internacional-de-aves-camallera-2016/
END:VEVENT
BEGIN:VEVENT
DTSTART;TZID=UTC:20160906T000000
DTEND;TZID=UTC:20160906T000000
DTSTAMP:20260425T183039
CREATED:20250909T103135Z
LAST-MODIFIED:20250909T103135Z
UID:7037-1473120000-1473120000@fesacocur.es
SUMMARY:VI Muestra Monográfica de Gallina Pedresa
DESCRIPTION:
URL:https://fesacocur.es/evento/vi-muestra-monografica-de-gallina-pedresa/
END:VEVENT
BEGIN:VEVENT
DTSTART;TZID=UTC:20160817T000000
DTEND;TZID=UTC:20160817T000000
DTSTAMP:20260425T183039
CREATED:20250909T103135Z
LAST-MODIFIED:20250909T103135Z
UID:7036-1471392000-1471392000@fesacocur.es
SUMMARY:IV Exposición Avícola "Ciudad de Torrelavega"
DESCRIPTION:I Monográfico de Gallina Araucana\nII Monográfico de Gallina Euskal Oiloa\nII Monográfico de Gallina Pita Pinta Asturiana\n\n[button link="https://fesacocur.es/wp-content/uploads/2016/08/HOJA_DE_INSCRIPCION-2016.xls" color="red" size="normal" title="Hoja de Inscripción" target="_blank" rel="nofollow"] Hoja de Inscripción [/button] \n[button link="Reglamento Oficial" color="red" size="normal" title="Reglamento Oficial" target="_blank" rel="nofollow"] Reglamento Oficial [/button]
URL:https://fesacocur.es/evento/iv-exposicion-avicola-ciudad-de-torrelavega/
END:VEVENT
BEGIN:VEVENT
DTSTART;TZID=UTC:20160628T000000
DTEND;TZID=UTC:20160628T000000
DTSTAMP:20260425T183039
CREATED:20250909T103135Z
LAST-MODIFIED:20250909T103135Z
UID:7035-1467072000-1467072000@fesacocur.es
SUMMARY:XII Feria Internacional - AGROPEC 2016
DESCRIPTION:Avicultura\, Colombicultura y Cunicultura Villa de Gijón\nMonografico del Gigante Español en el I Centernario 1916-2016\nIII Monográfico de la Mensajera de Color y Mensajera Antigua\nXII Monográfico de Pita Pinta Asturiana\nI Monográfico Nacional de la Araucana\n[button link="https://fesacocur.es/wp-content/uploads/2016/06/reglamento-agropec-2016.docx" color="red" size="normal" title="Descargar Reglamento" target="_auto" rel="nofollow"] Descargar Reglamento [/button]
URL:https://fesacocur.es/evento/xii-feria-internacional-agropec-2016/
END:VEVENT
BEGIN:VEVENT
DTSTART;TZID=UTC:20160512T000000
DTEND;TZID=UTC:20160512T000000
DTSTAMP:20260425T183039
CREATED:20250909T103119Z
LAST-MODIFIED:20250909T103119Z
UID:7033-1463011200-1463011200@fesacocur.es
SUMMARY:2ª Jornada Técnica AMCAE
DESCRIPTION:II Jornada Técnica AMCAE que tendrá lugar el Domingo 12 de Junio de 2016 en las Bodegas Andrés Díaz. \n\n11:00 h . Iniciación a las razas de palomas autóctonas del levante español.\nPor Ángel Luis Rodríguez Barbero.\n11:30 h.  Reproducción de los Cardenales americanos\nPor Miguel Sanfélix Vas.\n12:00 h. Aperitivo con vino de Bodegas Andrés Díaz.\n12:30 h . La forma en el Diamante Mandarín.\nPor José Manuel Rodríguez Benavente.\n\nRogamos confirméis asistencia  a amcae@amcae.com o al Tfno. 670337421.
URL:https://fesacocur.es/evento/2a-jornada-tecnica-amcae/
END:VEVENT
BEGIN:VEVENT
DTSTART;TZID=UTC:20160512T000000
DTEND;TZID=UTC:20160512T000000
DTSTAMP:20260425T183039
CREATED:20250909T103119Z
LAST-MODIFIED:20250909T103119Z
UID:7034-1463011200-1463011200@fesacocur.es
SUMMARY:IV Concurso Morfológico "Ciudad de Ronda" de la Raza Sureña
DESCRIPTION:II Monográfico de Sureñas Enanas (en proyecto)\nExposición y venta Avícola.
URL:https://fesacocur.es/evento/iv-concurso-morfologico-ciudad-de-ronda-de-la-raza-surena/
END:VEVENT
BEGIN:VEVENT
DTSTART;TZID=UTC:20160213T000000
DTEND;TZID=UTC:20160213T000000
DTSTAMP:20260425T183039
CREATED:20250909T103119Z
LAST-MODIFIED:20250909T103119Z
UID:7032-1455321600-1455321600@fesacocur.es
SUMMARY:Fimascota 2016
DESCRIPTION:Exposición Nacional Canina.\nExposición Internacional Canina.\nCampeonato de España de Peluquería Canina.\nExposición Felina - ASFE.\nConcurso Nacional de Avicultura Artística.\nFimascota Exótica (reptiles\, anfibios\, artrópodos y mamíferos exóticos).\nConcurso Nacional de Conejos Enanos.
URL:https://fesacocur.es/evento/fimascota-2016/
END:VEVENT
BEGIN:VEVENT
DTSTART;TZID=UTC:20160210T000000
DTEND;TZID=UTC:20160210T000000
DTSTAMP:20260425T183039
CREATED:20250909T103119Z
LAST-MODIFIED:20250909T103119Z
UID:7031-1455062400-1455062400@fesacocur.es
SUMMARY:III Exposición Avícola Medina Sidonia
DESCRIPTION:III Concurso Morfológico de Gallina Andaluza Sureña\nTodos los actos programados durante la celebración de esta Feria son públicos y  gratuitos\, excepto los previstos para el jueves\, día 25\, que quedan reservados exclusivamente para los criadores y propietarios y miembros del Comité Organizador relacionados con la entrada de aves\, control veterinario y el acto de enjuiciamiento de las aves inscritas en la fase de concurso. \nJUEVES\, DÍA 25: \nA partir de las 11h00 recepción de las aves\, inspección veterinaria\, clasificación en jaulas\, recogida de datos\, etc… \nA partir de las 18h00: A puerta cerrada\, enjuiciamiento de las aves inscritas en el III Concurso Morfológico de Gallina Andaluza Sureña (gallinas y gallos)\, por parte de un Juez del Colegio Nacional de Jueces de Avicultura de España (FESACOCUR). \nVIERNES\, DÍA 26: \nA partir de las 09h30\, visitas programadas con los centros de enseñanza de la localidad para los grupos de alumnos de infantil\, primaria y secundaria que lo hayan solicitado. \nA las 12h00 tendrá lugar el acto oficial de inauguración de la IIIª  Feria Avícola de Medina Sidonia por parte del Sr. Alcalde\, D. Manuel Fernando Macías Herrera y apertura al público de las instalaciones hasta las 20h00. \nA las 12h00 comienza el II Concurso de Fotografía de la Exposición de Aves. Las bases están publicadas en  http://gallinaselchozo.blogspot.com.es/ \nA las 12h00 se inaugurará la exposición de fotografías “Naturaleza Íntima” de Juan Tébar en colaboración con la Fundación Provincial de Cultura dela Diputación de Cádiz\, que estará expuesta en las instalaciones del recinto de la Caseta Municipal durante la Feria Avícola. \nA las 12h30 se presentará la revista oficial de la III Feria Avícola de Medina Sidonia\, editada por el grupo empresarial EUDIEM en las instalaciones de la Caseta Municipal. \nSÁBADO\, DÍA 27: \nApertura de la Feria a partir de las 11h00 hasta las 20h00. Horario continuado. \n13h00: Exposición de aves rapaces con exhibiciones de vuelos en el exterior de la caseta municipal. \n17h00: Exposición de aves rapaces con exhibiciones de vuelos en el exterior de la caseta municipal. \n19h30: Finaliza el plazo de entrega de las fotografías que participarán en el II Concurso de Fotografía de la Exposición de Aves. \n20h00: Fallo del Jurado del II Concurso de Fotografía de la Exposición de Aves. \nDOMINGO\, DÍA 28: \nApertura de la Feria a partir de las 11h00 hasta las 17h00. Horario continuado. \n12h30: Exposición de aves rapaces con exhibiciones de vuelos en el exterior de la Caseta Municipal. \nA las 13h00: Acto oficial de entrega de premios a los propietarios de los corrales de las aves galardonadas en la fase de concurso. \nA partir de las 17h00\, retirada de los ejemplares por parte de sus criadores. \n17h00:  Fin de la Exposición \nEn las instalaciones de la Caseta Municipal habrá servicio de bar-restaurante con precios populares ofrecido por un determinado establecimiento de la localidad durante todos los días de la Feria de Aves. \n  \nIndependientemente de esta programación\, el Área de Desarrollo Local del Ayuntamiento en colaboración con la Asociación de Hosteleros de la localidad tienen previsto la celebración de las "Jornadas Gastronómicas del Pollo de Campo" durante este fin de semana\, en el que cada restaurante\, bar o venta de la ciudad elaborará un plato típico con pollo de campo como ingrediente principal y se programará una ruta de tapas y visitas a estos establecimientos\, que se hará público en un folleto editado al efecto.
URL:https://fesacocur.es/evento/iii-exposicion-avicola-medina-sidonia/
END:VEVENT
BEGIN:VEVENT
DTSTART;TZID=UTC:20160125T000000
DTEND;TZID=UTC:20160125T000000
DTSTAMP:20260425T183039
CREATED:20250909T103119Z
LAST-MODIFIED:20250909T103119Z
UID:7030-1453680000-1453680000@fesacocur.es
SUMMARY:Concurso exposición de avicultura artística - Valladolid
DESCRIPTION:LUGAR Y FECHA: \nLa exposición tendrá lugar en la Feria de Muestras de Valladolid los días 21 y 22 de Febrero de 2015\, junto con la Feria Internacional Canina y Felina. (FIMASCOTA 2015) \nHORARIO: \nSábado 21 de Febrero:\nDe 10:00 a 21:00 h. \nDomingo 22 de Febrero:\nDe 10:00 a 21:00 h.                                                                                                                                                 \nCONDICIONES GENERALES E INSCRIPCIONES: \nLa exposición se regirá bajo las Normas de la Entente Europea de Avicultura y las propias de la organización. Dicha organización correrá a cargo de la ASOCIACIÓN AVÍCOLA DE RAZAS AUTOCTONAS (AARA) con la colaboración de la Federación Española de Avicultura\, Colombicultura y Cunicultura de Raza (FESACOCUR).  \nTodos los expositores por el mero hecho de exponer\, aceptan las Bases y Normas del Concurso. \nTodos los animales irán acompañados de la correspondiente Guía de Origen y Sanidad y/o de los certificados sanitarios que puedan exigirse en su momento. \nEl jurado estará compuesto por jueces oficiales del Colegio Nacional de Jueces\, la decisión del jurado será inapelable. \nNo podrán tocarse ni retirarse los animales hasta el día de la clausura (salvo personas autorizadas) en el que serán entregados por personal autorizado de la organización a partir de las 16:00 h. Los animales que no se recojan en la exposición se enviaran por servicio de transporte MRW a portes debidos. Dicha devolución se realizará a portes pagados si la liquidación individual permite deducirlo.  \nCada expositor tendrá derecho a exponer cuantos animales desee\, siendo la única condición que exista jaula libre\, estableciéndose la prioridad por pertenecer o no a la Asociación organizadora y por el orden de llegada de las hojas de inscripción.  \nLA ORGANIZACIÓN SE RESERVA EL DERECHO DE ADMISION DE EJEMPLARES. \nLa recepción de los animales se realizará el día 20 de febrero de 2015.                                          \nSera requisito imprescindible tener los animales debidamente anillados con anillas oficiales y que estos cumplan con los estándares de la Entente Europea.  \nEn la hoja de inscripción deberá figurar obligatoriamente el nº de anilla de cada animal\, de lo contrario será rechazada. \nLOS ANIMALES SIN ANILLA O ALGÚN TIPO DE TARA NO SERAN ADMITIDOS\, SIENDO DEVUELTOS A SUS PROPIETARIOS EN EL MOMENTO DE LA RECEPCIÓN. \nLA INSCRIPCIÓN SERÁ DE 2 EUROS POR  ANIMAL A LA VENTA Y 1 EURO POR ANIMAL A EXPONER. \nLA ORGANIZACIÓN A SU VEZ\, EN EL CASO DE NO SER SOCIO DE (AARA)\, ASOCIACIÓN ORGANIZADORA\, INCREMENTARA SU PRECIO TOTAL DE VENTA AL PUBLICO EN UN 10%. \nLos pájaros no pagaran inscripción\, incrementándose el 15% al precio de su venta.  \nLos animales adquiridos el Sábado 21\, se podrán recoger a las 14:00 h. y a las 19:00 h. \nLos adquiridos el domingo 22\, a partir de las 16:00 h. \nEl plazo de inscripción se cierra el día 18de febrero de 2015 y las hojas de inscripción se dirigirán a: godiearrainz@hotmail.com                                                                                                \nLos socios tendrán derecho a la adquisición de animales a la venta el viernes. \nEn caso de extravío durante la exposición se abonará 20€/animal esté o no a la venta. \nEl pago de la inscripción se realizará en la propia exposición.
URL:https://fesacocur.es/evento/concurso-exposicion-de-avicultura-artistica-valladolid/
END:VEVENT
BEGIN:VEVENT
DTSTART;TZID=UTC:20160112T000000
DTEND;TZID=UTC:20160112T000000
DTSTAMP:20260425T183039
CREATED:20250909T103104Z
LAST-MODIFIED:20250909T103104Z
UID:7028-1452556800-1452556800@fesacocur.es
SUMMARY:IX Exposición de Gallinas Andaluzas Sureñas
DESCRIPTION:
URL:https://fesacocur.es/evento/ix-exposicion-de-gallinas-andaluzas-surenas/
END:VEVENT
BEGIN:VEVENT
DTSTART;TZID=UTC:20160112T000000
DTEND;TZID=UTC:20160112T000000
DTSTAMP:20260425T183039
CREATED:20250909T103104Z
LAST-MODIFIED:20250909T103104Z
UID:7029-1452556800-1452556800@fesacocur.es
SUMMARY:III Exposición de Gallinas Autóctonas Andaluzas Sureñas
DESCRIPTION:
URL:https://fesacocur.es/evento/iii-exposicion-de-gallinas-autoctonas-andaluzas-surenas/
END:VEVENT
BEGIN:VEVENT
DTSTART;TZID=UTC:20160105T000000
DTEND;TZID=UTC:20160105T000000
DTSTAMP:20260425T183039
CREATED:20250909T103104Z
LAST-MODIFIED:20250909T103104Z
UID:7027-1451952000-1451952000@fesacocur.es
SUMMARY:XI Campeonato de España
DESCRIPTION:XI Campeonato de España de Avicultura\, Colombicultura y Cunicultura de Raza.\n25º Concurso Exposición de Avicultura Conservacionista "Ciudad de Talavera de la Reina".\n8º Certamen Monográfico de Gallina Castellana Negra.
URL:https://fesacocur.es/evento/xi-campeonato-de-espana/
END:VEVENT
BEGIN:VEVENT
DTSTART;TZID=UTC:20151202T000000
DTEND;TZID=UTC:20151202T000000
DTSTAMP:20260425T183039
CREATED:20250909T103104Z
LAST-MODIFIED:20250909T103104Z
UID:7026-1449014400-1449014400@fesacocur.es
SUMMARY:XXIX Exposición Internacional Ciutat de Valls 2016
DESCRIPTION:
URL:https://fesacocur.es/evento/xxix-exposicion-internacional-ciutat-de-valls-2016/
END:VEVENT
BEGIN:VEVENT
DTSTART;TZID=UTC:20151125T000000
DTEND;TZID=UTC:20151125T000000
DTSTAMP:20260425T183039
CREATED:20250909T103104Z
LAST-MODIFIED:20250909T103104Z
UID:7025-1448409600-1448409600@fesacocur.es
SUMMARY:II Exposición Avicola - Chipiona
DESCRIPTION:I Concurso Gallina Sureña\n1º\, 1º\, 3º Premios Gallos - 1º\, 2º\, 3º Premios Gallinas \nStand de productos artesanos. \nInteresantes conferencias el Sábado y Domingo sobre Genética\, Cria\, etc.
URL:https://fesacocur.es/evento/ii-exposicion-avicola-chipiona/
END:VEVENT
BEGIN:VEVENT
DTSTART;TZID=UTC:20151123T000000
DTEND;TZID=UTC:20151123T000000
DTSTAMP:20260425T183039
CREATED:20250909T103048Z
LAST-MODIFIED:20250909T103048Z
UID:7024-1448236800-1448236800@fesacocur.es
SUMMARY:IV Campeonato Internacional Villa Alba de Tormes
DESCRIPTION:IV Campeonato Internacional Avicultura y Colombicultura\nII Campeonato de Castilla y León de razas autóctonas españolas\n[column size="1/3" margin="" last="no"][button link="https://fesacocur.es/wp-content/uploads/2015/12/HOJA-DE-INSCRIPCION-AVICOALBAl-INTERNACIONAL.doc" color="red" size="normal" title="Inscripción internacional" target="_blank" rel="nofollow"]Inscripción internacional [/button][/column] \n[column size="1/3" margin="" last="no"][button link="https://fesacocur.es/wp-content/uploads/2015/12/HOJA-DE-INSCRIPCION-AVICOALBAl-NACIONAL.doc" color="red" size="normal" title="Inscripción nacional" target="_blank" rel="nofollow"]Inscripción nacional [/button][/column] \n[column size="1/4" margin="" last="no"][button link="https://fesacocur.es/wp-content/uploads/2015/12/Reglamento-Alba-de-Tormes-2016.doc" color="red" size="normal" title="Descargar Reglamento" target="_blank" rel="nofollow"]Descargar Reglamento [/button][/column]
URL:https://fesacocur.es/evento/iv-campeonato-internacional-villa-alba-de-tormes/
END:VEVENT
BEGIN:VEVENT
DTSTART;TZID=UTC:20151028T000000
DTEND;TZID=UTC:20151028T000000
DTSTAMP:20260425T183039
CREATED:20250909T103720Z
LAST-MODIFIED:20250909T103720Z
UID:7150-1445990400-1445990400@fesacocur.es
SUMMARY:Bañolas - Banyoles 2024
DESCRIPTION:BAÑOLAS 16 de noviembre 2024\nXVI Concurso monográfico de la paloma catalana de vuelo\n  Fira Sant Martirià\n \nREGLAMENTO CONCURSO
URL:https://fesacocur.es/evento/banolas-banyoles-2024/
END:VEVENT
BEGIN:VEVENT
DTSTART;TZID=UTC:20151028T000000
DTEND;TZID=UTC:20151028T000000
DTSTAMP:20260425T183039
CREATED:20250909T103048Z
LAST-MODIFIED:20250909T103048Z
UID:7022-1445990400-1445990400@fesacocur.es
SUMMARY:IV Exposición Avicola de Candás
DESCRIPTION:[button link="https://fesacocur.es/wp-content/uploads/2015/10/Reglamento-exposición-2015p.pdf" color="red" size="normal" title="Descargar Reglamento" target="_self" rel="nofollow"] Descargar Reglamento [/button] \nLa Cuarta Exposición Avícola y Tercer Monográfico de Pita Pinta Asturiana en Candas\, se celebrara en las instalaciones de la antigua fábrica conservera de Ortiz\, en el centro de Candas la capital de Carreño (Asturias). Los días 27-28-29 de Noviembre \nMiércoles Día 25\nDe 10.00 h. a 20.00 Recepción de Animales. \nJueves Día 26\nDe 10.00 h. a 20.00 h. Enjuiciamientos. \nViernes Día 27\nInauguración Oficial a las 11.00 horas. A partir de las 11.00 h Visitas guiadas para escolares \nSábado Día 28\nHorario de apertura al público será el siguiente: \n\nDe 10.00h a 20.00h\n13.00 h será la entrega de premios\n\nDomingo Día 29\nDe 10.00 h. a 17.00 Horas
URL:https://fesacocur.es/evento/iv-exposicion-avicola-de-candas/
END:VEVENT
BEGIN:VEVENT
DTSTART;TZID=UTC:20151028T000000
DTEND;TZID=UTC:20151028T000000
DTSTAMP:20260425T183039
CREATED:20250909T103048Z
LAST-MODIFIED:20250909T103048Z
UID:7023-1445990400-1445990400@fesacocur.es
SUMMARY:37 Fira Sant Martirià - Banyoles
DESCRIPTION:[button link="https://fesacocur.es/wp-content/uploads/2015/10/DIPTIC-37-FIRA-2015.pdf" color="red" size="normal" title="Descargar Programa" target="_self" rel="nofollow"] Descargar Programa" [/button] \n37 Fira Sant Martirià\n11 Mostra Races Autòctones dels Països Catalans \nEspecial races autòctones del País Basc \nXXXV Exposició Monogràfica Gos d'Atura Català
URL:https://fesacocur.es/evento/37-fira-sant-martiria-banyoles/
END:VEVENT
BEGIN:VEVENT
DTSTART;TZID=UTC:20151023T000000
DTEND;TZID=UTC:20151023T000000
DTSTAMP:20260425T183039
CREATED:20250909T103048Z
LAST-MODIFIED:20250909T103048Z
UID:7020-1445558400-1445558400@fesacocur.es
SUMMARY:IXX Exposición Internacional de Aves - Camallera
DESCRIPTION:
URL:https://fesacocur.es/evento/ixx-exposicion-internacional-de-aves-camallera/
END:VEVENT
BEGIN:VEVENT
DTSTART;TZID=UTC:20151023T000000
DTEND;TZID=UTC:20151023T000000
DTSTAMP:20260425T183039
CREATED:20250909T103048Z
LAST-MODIFIED:20250909T103048Z
UID:7021-1445558400-1445558400@fesacocur.es
SUMMARY:V Exposición Internacional de Avicultura "Terres de l'Ebre"
DESCRIPTION:1ª Selección 5 estrellas de Catalunya\nAves de primera calidad\, procedentes de Alemania\, Reino Unido y Bélgica\n[column size="1/4" margin="" last="no"][button link="https://fesacocur.es/wp-content/uploads/2015/10/Hoja-Inscripciones-TORTOSA-2015.doc" color="red" size="normal" title="Inscripción" target="_blank" rel="nofollow"]Inscripción [/button][/column] \n[column size="1/4" margin="" last="no"][button link="https://fesacocur.es/wp-content/uploads/2015/10/reglamento-tortosa.doc" color="red" size="normal" title="Reglamento" target="_blank" rel="nofollow"]Reglamento [/button][/column] \n[divider style="1" before="120px" after="20px"] \n 
URL:https://fesacocur.es/evento/v-exposicion-internacional-de-avicultura-terres-de-lebre/
END:VEVENT
BEGIN:VEVENT
DTSTART;TZID=UTC:20151023T000000
DTEND;TZID=UTC:20151023T000000
DTSTAMP:20260425T183039
CREATED:20250909T103047Z
LAST-MODIFIED:20250909T103047Z
UID:7018-1445558400-1445558400@fesacocur.es
SUMMARY:II Feria Avícola y Comercial de Brunete
DESCRIPTION:II Concurso Monográfico de la Gallina Castellana Negra\n[column size="1/4" margin="" last="no"][button link="https://fesacocur.es/wp-content/uploads/2015/10/inscripciones-BRUNETE-2015.doc" color="red" size="normal" title="Inscripción" target="_blank" rel="nofollow"]Inscripción [/button][/column] \n[column size="1/4" margin="" last="no"][button link="https://fesacocur.es/wp-content/uploads/2015/10/REGLAMENTO-EXPOSICION.pdf" color="red" size="normal" title="Reglamento" target="_blank" rel="nofollow"]Reglamento [/button][/column]
URL:https://fesacocur.es/evento/ii-feria-avicola-y-comercial-de-brunete/
END:VEVENT
BEGIN:VEVENT
DTSTART;TZID=UTC:20151023T000000
DTEND;TZID=UTC:20151023T000000
DTSTAMP:20260425T183039
CREATED:20250909T103047Z
LAST-MODIFIED:20250909T103047Z
UID:7019-1445558400-1445558400@fesacocur.es
SUMMARY:Exposición Metz 2015
DESCRIPTION:Del 13 al 15 de Noviembre próximo\, en la ciudad francesa de Metz se realizará la 28º edición del campeonato de Europa. En esta ocasión la representación española va a ser mas numerosa que en el pasado campeonato de Leipzig 2012. \nLa distancia más corta con respecto a la anterior edición y la mayor flexibilidad a la hora de organizar los transportes de animales ha facilitado la participación de una cincuentena de criadores pertenecientes a once asociaciones afiliadas a FESACOCUR con un total de 327 ejemplares\, sin duda una buena participación que sin duda hace más representativa la avicultura española en Europa. \nDesde FESACOCUR queremos agradecer el esfuerzo que se va a realizar por todos los participantes principalmente en lo que al tema económico se refiere. \nRelación de Asociaciones participantes: \n\nGANECA\nGRAMACOR\nPINTA ASTURIANA\nAVIVAL\nAMIGOS MUNDO AVÍCOLA\nASC. NACIONAL DE CRIADORES DE GALLINAS DE PURA RAZA CASTELLANA\nEL FRANCOLI\nLA SAGRA\nACURAPU\nACAIB\nEOALAK
URL:https://fesacocur.es/evento/exposicion-metz-2015/
END:VEVENT
BEGIN:VEVENT
DTSTART;TZID=UTC:20151013T000000
DTEND;TZID=UTC:20151013T000000
DTSTAMP:20260425T183039
CREATED:20250909T103047Z
LAST-MODIFIED:20250909T103047Z
UID:7017-1444694400-1444694400@fesacocur.es
SUMMARY:III Exposición Avicola "Ciudad de Torrelavega"
DESCRIPTION:[button link="https://fesacocur.es/wp-content/uploads/2015/10/reglamento-oficial-ciudad-de-torrelavega.doc" color="red" size="normal" title="Descargar Reglamento" target="_self" rel="nofollow"] Descargar Reglamento [/button] [button link="https://fesacocur.es/wp-content/uploads/2015/10/inscripcion-expo-avicultura-raza.doc" color="red" size="normal" title="Descargar Hoja Inscripción" target="_self" rel="nofollow"] Hoja Inscripción [/button]\n[divider style="1\, 2\, 3\, 4\, 5" before="" after=""]\n[simple-weather location="Torrelavega\, ES" latitude="43.343175" longitude="4.050285" days="2" night="no" units="metric" date="l"].\n[divider style="1\, 2\, 3\, 4\, 5" before="" after=""]\n[map-maker latitude="43.343175" longitude="-4.050285" type="roadmap" zoom="15" height="400"][/map-maker]
URL:https://fesacocur.es/evento/iii-exposicion-avicola-ciudad-de-torrelavega/
END:VEVENT
BEGIN:VEVENT
DTSTART;TZID=UTC:20150910T000000
DTEND;TZID=UTC:20150910T000000
DTSTAMP:20260425T183039
CREATED:20250909T103047Z
LAST-MODIFIED:20250909T103047Z
UID:7016-1441843200-1441843200@fesacocur.es
SUMMARY:IX Exposición AVIVAL
DESCRIPTION:[button link="https://fesacocur.es/wp-content/uploads/2015/09/Reglamento-Requena-2015.doc" color="red" size="normal" title="Descargar programa" target="_self" rel="nofollow"] Descargar programa [/button] \n[divider style="1\, 2\, 3\, 4\, 5" before="" after=""] \n  \n[simple-weather location="Requena\, ES" latitude="39.4890265" longitude="-1.099336600000015" days="2" night="no" units="metric" date="l"]. \n[divider style="1\, 2\, 3\, 4\, 5" before="" after=""] \n[agenda]\n[event-day date="27-29.11.2015"]IX Exposición AVIVAL[/event-day]\n[event time="22.11.2015" room="Recinto Ferial"][toggle-box title="Recepción animales"]Recepción animales. Los enviados por MRW deben ser consignados para su entrega el martes 24 de noviembre. Los que se entreguen directamente en Requena\, lo pueden hacer cualquiera de los dos días de 10 a 14 y de 16 a 19 horas[/toggle-box][/event]\n[event time="24.11.2015" room="Recinto Ferial"][toggle-box title="Recepción animales"]Recepción animales. Los enviados por MRW deben ser consignados para su entrega el martes 24 de noviembre. Los que se entreguen directamente en Requena\, lo pueden hacer cualquiera de los dos días de 10 a 14 y de 16 a 19 horas[/toggle-box][/event]\n[event time="25.11.2015" room="Recinto Ferial"][toggle-box title="Enjuiciamiento"][/toggle-box][/event]\n[event time="26.11.2015" room="Recinto Ferial"][toggle-box title="Enjuiciamiento"][/toggle-box][/event]\n[event time="27.11.2015" room="Recinto Ferial"][toggle-box title="Visitas escolares y jubilados"]Visitas escolares y jubilados (gratuitas y acordadas con las autoridades locales). 13:00 Inauguración oficial. Apertura al público general de 9:00 a 14:00 y de 15:30 a 19:00. No habrá venta durante este día.[/toggle-box][/event]\n[event time="28.11.2015" room="Recinto Ferial"][toggle-box title="Compra"]de 9 a 20 horas ininterrumpidamente. Los socios de Avival podrán comprar de 9:00 a 11:00\, a partir de las 11:00 podrá comprar todo el público.[/toggle-box][/event]\n[event time="29.11.2015" room="Recinto Ferial"][toggle-box title="Visita público"]de 9 a 13 horas\, para todo el público.[/toggle-box][/event]\n[/agenda] \n[divider style="1\, 2\, 3\, 4\, 5" before="" after=""] \n[map-maker latitude="39.4890265" longitude="-1.099336600000015" type="roadmap" zoom="15" height="400"][/map-maker]
URL:https://fesacocur.es/evento/ix-exposicion-avival/
END:VEVENT
BEGIN:VEVENT
DTSTART;TZID=UTC:20150909T000000
DTEND;TZID=UTC:20150909T000000
DTSTAMP:20260425T183039
CREATED:20250909T103047Z
LAST-MODIFIED:20250909T103047Z
UID:7015-1441756800-1441756800@fesacocur.es
SUMMARY:X Campeonato de España de Avicultura\, Colombicultura y Cunicultura de raza
DESCRIPTION:VII Concurso de Raza de Gallina Penedesenca\nX Campeonato de España de Avicultura\, Colombicultura y Cunicultura de raza \n[button link="https://fesacocur.es/wp-content/uploads/2015/11/REGLAMENTO-X-CAMPEONATO-ESPAÑA.pdf" color="red" size="normal" title="Descargar Programa" target="_self" rel="nofollow"] Descargar Programa" [/button] \n  \n[divider style="1" before="" after=""]
URL:https://fesacocur.es/evento/x-campeonato-de-espana-de-avicultura-colombicultura-y-cunicultura-de-raza/
END:VEVENT
BEGIN:VEVENT
DTSTART;TZID=UTC:20260425T183039
DTEND;TZID=UTC:20260425T183039
DTSTAMP:20260425T183039
CREATED:20250909T103505Z
LAST-MODIFIED:20250909T103505Z
UID:7105-0-0@fesacocur.es
SUMMARY:AGROPEC 2021
DESCRIPTION:XVII FERIA INTERNACIONAL DE AVICULTURA\, COLOMBICULTURA Y CUNICULTURA DE RAZA\nDESCARGAR REGLAMENTO \n 
URL:https://fesacocur.es/evento/agropec-2021/
END:VEVENT
BEGIN:VEVENT
DTSTART;TZID=UTC:20260425T183039
DTEND;TZID=UTC:20260425T183039
DTSTAMP:20260425T183039
CREATED:20250909T103421Z
LAST-MODIFIED:20250909T103421Z
UID:7094-0-0@fesacocur.es
SUMMARY:I Monográfica de la Halconera Murciana
DESCRIPTION:I Monográfica de la Halconera Murciana\n\nInscripción de ejemplares hasta el jueves 23 de Enero al correo amcae@amcae.com\nRecepción de ejemplares enviados por agencia y entregados en mano viernes 24 de Enero de 10:00 a 20:00h en la sede AMCAE\, Madrid.\nEnjuiciamiento Sábado 25 de Enero de 10:00h hasta finalizar.\nPresentación de la raza Sábado 25 de Enero de 12:00 a 13:00h (Debido a la limitación del aforo se ruega a los no socios reservar en el correo amcae@amcae.com\nEntrega de trofeos\, clausura y devolución de ejemplares Sábado 25 de Enero desde las 13:00h
URL:https://fesacocur.es/evento/i-monografica-de-la-halconera-murciana/
END:VEVENT
END:VCALENDAR