BEGIN:VCALENDAR
VERSION:2.0
PRODID:-//Fesacocur - ECPv6.15.19//NONSGML v1.0//EN
CALSCALE:GREGORIAN
METHOD:PUBLISH
X-WR-CALNAME:Fesacocur
X-ORIGINAL-URL:https://fesacocur.es
X-WR-CALDESC:Eventos para Fesacocur
REFRESH-INTERVAL;VALUE=DURATION:PT1H
X-Robots-Tag:noindex
X-PUBLISHED-TTL:PT1H
BEGIN:VTIMEZONE
TZID:UTC
BEGIN:STANDARD
TZOFFSETFROM:+0000
TZOFFSETTO:+0000
TZNAME:UTC
DTSTART:20150101T000000
END:STANDARD
END:VTIMEZONE
BEGIN:VEVENT
DTSTART;TZID=UTC:20180123T000000
DTEND;TZID=UTC:20180123T000000
DTSTAMP:20260425T152858
CREATED:20250909T103250Z
LAST-MODIFIED:20250909T103250Z
UID:7063-1516665600-1516665600@fesacocur.es
SUMMARY:AVIBARCA VI Exposición de Gallinas Autóctonas y otras Aves
DESCRIPTION:Horario de 11 a 22 horas\, día 4 hasta las 17 horas. \nEnjuiciamiento y recepción de aves: 1 de febrero de 10 a 22h.
URL:https://fesacocur.es/evento/avibarca-vi-exposicion-de-gallinas-autoctonas-y-otras-aves/
END:VEVENT
BEGIN:VEVENT
DTSTART;TZID=UTC:20180116T000000
DTEND;TZID=UTC:20180116T000000
DTSTAMP:20260425T152858
CREATED:20250909T103250Z
LAST-MODIFIED:20250909T103250Z
UID:7062-1516060800-1516060800@fesacocur.es
SUMMARY:X Exposición de Gallinas Sureñas
DESCRIPTION:
URL:https://fesacocur.es/evento/x-exposicion-de-gallinas-surenas/
END:VEVENT
BEGIN:VEVENT
DTSTART;TZID=UTC:20180112T000000
DTEND;TZID=UTC:20180112T000000
DTSTAMP:20260425T152858
CREATED:20250909T103250Z
LAST-MODIFIED:20250909T103250Z
UID:7061-1515715200-1515715200@fesacocur.es
SUMMARY:V Exposición de Gallinas Autóctonas Sureñas
DESCRIPTION:Viernes y Sábado de 10 a 21h. \nDomingo de 10 a 14:30h.
URL:https://fesacocur.es/evento/v-exposicion-de-gallinas-autoctonas-surenas/
END:VEVENT
BEGIN:VEVENT
DTSTART;TZID=UTC:20180102T000000
DTEND;TZID=UTC:20180102T000000
DTSTAMP:20260425T152858
CREATED:20250909T103250Z
LAST-MODIFIED:20250909T103250Z
UID:7060-1514851200-1514851200@fesacocur.es
SUMMARY:Europaschau 2018 Herning
DESCRIPTION:
URL:https://fesacocur.es/evento/europaschau-2018-herning/
END:VEVENT
BEGIN:VEVENT
DTSTART;TZID=UTC:20171205T000000
DTEND;TZID=UTC:20171205T000000
DTSTAMP:20260425T152858
CREATED:20250909T103235Z
LAST-MODIFIED:20250909T103235Z
UID:7058-1512432000-1512432000@fesacocur.es
SUMMARY:EXPOAVES Gallarta 2017
DESCRIPTION:IX Exposición Internacional de Avicultura EOALAK\nCampeonatos especiales de raza \n\nIII Campeonato nacional de Gallina Carablanca\nIII Campeonato Eoalak de Razas Baleares\nIII Campeonato Eoalak de Gallina Pedresa Atlántica\nI Campeonato Eoalak de Gallinas Kriell Pekin y Sedosa\nII Campeonato de Eoalak de Gigante de Flandes\nCampeonatos especiales de Anatidas y Conejos
URL:https://fesacocur.es/evento/expoaves-gallarta-2017/
END:VEVENT
BEGIN:VEVENT
DTSTART;TZID=UTC:20171205T000000
DTEND;TZID=UTC:20171205T000000
DTSTAMP:20260425T152858
CREATED:20250909T103235Z
LAST-MODIFIED:20250909T103235Z
UID:7059-1512432000-1512432000@fesacocur.es
SUMMARY:VI Campeonato Internacional de Avicultura y Colombicultura Villa Alba de Tormes
DESCRIPTION:VI Campeonato Internacional de Avicultura y Colombicultura\nIV Campeonato de Castilla y León de Razas Autóctonas Españolas
URL:https://fesacocur.es/evento/vi-campeonato-internacional-de-avicultura-y-colombicultura-villa-alba-de-tormes/
END:VEVENT
BEGIN:VEVENT
DTSTART;TZID=UTC:20171107T000000
DTEND;TZID=UTC:20171107T000000
DTSTAMP:20260425T152858
CREATED:20250909T103235Z
LAST-MODIFIED:20250909T103235Z
UID:7057-1510012800-1510012800@fesacocur.es
SUMMARY:III Exposición y II Concurso Gallos y Gallinas Sureña - COSTA DE LA LUZ
DESCRIPTION:Fecha:\nDel 7 al 10 de diciembre 2017. \nLugar:\nRIVERA - GARDEN\nCtra. Sanlúcar - Chipiona\, Km. 2\,7 - Chipiona. \nHorario:\nJueves\, Viernes y Sábado de 10 a 20 horas.\nDomingo de 10 a 15 horas. \nRecepción de animales:\nMiércoles 6 de 10 a 15 horas. \nFecha límite de inscripción:\nViernes\, 1 de Diciembre. \n 
URL:https://fesacocur.es/evento/iii-exposicion-y-ii-concurso-gallos-y-gallinas-surena-costa-de-la-luz/
END:VEVENT
BEGIN:VEVENT
DTSTART;TZID=UTC:20171010T000000
DTEND;TZID=UTC:20171010T000000
DTSTAMP:20260425T152858
CREATED:20250909T103235Z
LAST-MODIFIED:20250909T103235Z
UID:7056-1507593600-1507593600@fesacocur.es
SUMMARY:IV Exposición Avícola y Feria Comercial Brunete 2017
DESCRIPTION:Polideportivo Municipal José Ramón de la Morena\, Brunete\nViernes y sábado de 10 a 15h y de 14 a 21h. \nDomingo de 10 a 15h. \n  \nOrganiza: \nAyuntamiento de Brunete y Asociación de Avicultura Ornamental y de Raza de la Zona Centro.
URL:https://fesacocur.es/evento/iv-exposicion-avicola-y-feria-comercial-brunete-2017/
END:VEVENT
BEGIN:VEVENT
DTSTART;TZID=UTC:20171005T000000
DTEND;TZID=UTC:20171005T000000
DTSTAMP:20260425T152858
CREATED:20250909T103235Z
LAST-MODIFIED:20250909T103235Z
UID:7055-1507161600-1507161600@fesacocur.es
SUMMARY:AVICOR 2017 - Feria Avícola de Córdoba
DESCRIPTION:
URL:https://fesacocur.es/evento/avicor-2017-feria-avicola-de-cordoba/
END:VEVENT
BEGIN:VEVENT
DTSTART;TZID=UTC:20170428T000000
DTEND;TZID=UTC:20170428T000000
DTSTAMP:20260425T152858
CREATED:20250909T103220Z
LAST-MODIFIED:20250909T103220Z
UID:7054-1493337600-1493337600@fesacocur.es
SUMMARY:XIII Feria Internacional de Avicultura\, Colombicultura y Cunicultura "VILLA DE GIJÓN"
DESCRIPTION:Campeonato de Europa de la Pita Pinta Asturiana\nII Monográfico Nacional de la Araucana "Trofeo Villa de Gijón"\nI Monográfico Nacional de la Gallina Sedosa
URL:https://fesacocur.es/evento/xiii-feria-internacional-de-avicultura-colombicultura-y-cunicultura-villa-de-gijon/
END:VEVENT
BEGIN:VEVENT
DTSTART;TZID=UTC:20170321T000000
DTEND;TZID=UTC:20170321T000000
DTSTAMP:20260425T152858
CREATED:20250909T103220Z
LAST-MODIFIED:20250909T103220Z
UID:7053-1490054400-1490054400@fesacocur.es
SUMMARY:I Feria Avícola "La Rambla"
DESCRIPTION:Horario: 10:30 a 14:00 y 16:00  20:00 \nI Campeonato Regional de Palomos de Raza ciudad de La Rambla\nOrganizado por la Sociedad de Palomos de Raza "La Mezquita" en colaboración de la Federación Andaluza de Entidades de Cría de Palomos de Raza. \nExposición Avícola\nSe expondrán ejemplares de razas aviares autóctonas andaluzas\, pavos\, faisanes y razas ornamentales.
URL:https://fesacocur.es/evento/i-feria-avicola-la-rambla/
END:VEVENT
BEGIN:VEVENT
DTSTART;TZID=UTC:20170310T000000
DTEND;TZID=UTC:20170310T000000
DTSTAMP:20260425T152858
CREATED:20250909T103220Z
LAST-MODIFIED:20250909T103220Z
UID:7051-1489104000-1489104000@fesacocur.es
SUMMARY:XII Feria Internacional de Avicultura\, Colombicultura y Cunicultura "Villa de Gijón"
DESCRIPTION:1º Monográfico de la Paloma Romana\n4º Monográfico de la Paloma Mensajera de Color\n3º Monográfico de la Paloma Mensajera Línea Antigua
URL:https://fesacocur.es/evento/xii-feria-internacional-de-avicultura-colombicultura-y-cunicultura-villa-de-gijon/
END:VEVENT
BEGIN:VEVENT
DTSTART;TZID=UTC:20170310T000000
DTEND;TZID=UTC:20170310T000000
DTSTAMP:20260425T152858
CREATED:20250909T103220Z
LAST-MODIFIED:20250909T103220Z
UID:7052-1489104000-1489104000@fesacocur.es
SUMMARY:3ª Jornada AMCAE 2017
DESCRIPTION:10:30 h. Técnicas en la cría y preparación de los Híbridos.\nPor José Manuel Rodríguez Benavente.\n11:00 h. Experiencias con los piquituertos del género _Loxia._\nPor Luís Sánchez Ríos.\n11:30 h. Los Diamantes del género _Erythrura._\nPor Miguel Sanfélix Vas.\n12:00 h. Aperitivo con vino de la bodega Andrés Díaz.\n12:30 h. Los Diamantes mandarines clásicos y dorso claro.\nPor José Luis Borrajo Giralda.
URL:https://fesacocur.es/evento/3a-jornada-amcae-2017/
END:VEVENT
BEGIN:VEVENT
DTSTART;TZID=UTC:20170131T000000
DTEND;TZID=UTC:20170131T000000
DTSTAMP:20260425T152858
CREATED:20250909T103220Z
LAST-MODIFIED:20250909T103220Z
UID:7050-1485820800-1485820800@fesacocur.es
SUMMARY:Campeonato de Europa de la Pita Pinta Asturiana
DESCRIPTION:[button link="https://fesacocur.es/wp-content/uploads/2017/01/reglamento-campeonato-europa-2017.docx" color="red" size="normal" title="Reglamento" target="_auto" rel="nofollow"] Reglamento [/button]
URL:https://fesacocur.es/evento/campeonato-de-europa-de-la-pita-pinta-asturiana/
END:VEVENT
BEGIN:VEVENT
DTSTART;TZID=UTC:20170124T000000
DTEND;TZID=UTC:20170124T000000
DTSTAMP:20260425T152858
CREATED:20250909T103206Z
LAST-MODIFIED:20250909T103206Z
UID:7049-1485216000-1485216000@fesacocur.es
SUMMARY:II Exposición de ARRGAMYT
DESCRIPTION:Asociación para la recuperación de las razas de Gallinas Andaluzas: Antigua Moñuda y Antigua Tufona.\nDía 10. A las 12h Inauguración. Apertura hasta las 20h. \nDía 11. Apertura de 10 a 14h y de 16 a 20h. \nDía 12. 10h Apertura - 12:30h Clausura.
URL:https://fesacocur.es/evento/ii-exposicion-de-arrgamyt/
END:VEVENT
BEGIN:VEVENT
DTSTART;TZID=UTC:20170118T000000
DTEND;TZID=UTC:20170118T000000
DTSTAMP:20260425T152858
CREATED:20250909T103206Z
LAST-MODIFIED:20250909T103206Z
UID:7048-1484697600-1484697600@fesacocur.es
SUMMARY:IV Exposición de Gallinas Autóctonas Sureñas
DESCRIPTION:Horario: \nViernes 27 y sábado 28 de 10 a 21h \nDomingo 29 de 10 a 14:30h
URL:https://fesacocur.es/evento/iv-exposicion-de-gallinas-autoctonas-surenas/
END:VEVENT
BEGIN:VEVENT
DTSTART;TZID=UTC:20170111T000000
DTEND;TZID=UTC:20170111T000000
DTSTAMP:20260425T152858
CREATED:20250909T103206Z
LAST-MODIFIED:20250909T103206Z
UID:7047-1484092800-1484092800@fesacocur.es
SUMMARY:Fimascota - 10ª Edición - Valladolid
DESCRIPTION:Exposición Nacional e Internacional Canina\nVI Copa de España de Peluquería Canina\nMediterranean Winner Show - ASFE -FiFe\nConcurso Nacional de Avicultura Artística\nFimascota Exótica (reptiles\, anfibios\, artrópodos y mamíferos exóticos)
URL:https://fesacocur.es/evento/fimascota-10a-edicion-valladolid/
END:VEVENT
BEGIN:VEVENT
DTSTART;TZID=UTC:20161125T000000
DTEND;TZID=UTC:20161125T000000
DTSTAMP:20260425T152858
CREATED:20250909T103205Z
LAST-MODIFIED:20250909T103205Z
UID:7046-1480032000-1480032000@fesacocur.es
SUMMARY:VIII Exposición Internacional de Avicultura EOALAK
DESCRIPTION:Campeonatos especiales de razas:\n\nBaleares\nGallinas Seramas\nPedresa\nCara Blanca\nConejo gigante de Flandes\n\n[button link="https://fesacocur.es/wp-content/uploads/2016/11/Bases.pdf" color="red" size="normal" title="Descargar BASES" target="_blank" ] Descargar BASES [/button]
URL:https://fesacocur.es/evento/viii-exposicion-internacional-de-avicultura-eoalak/
END:VEVENT
BEGIN:VEVENT
DTSTART;TZID=UTC:20161121T000000
DTEND;TZID=UTC:20161121T000000
DTSTAMP:20260425T152858
CREATED:20250909T103205Z
LAST-MODIFIED:20250909T103205Z
UID:7045-1479686400-1479686400@fesacocur.es
SUMMARY:V Campeonato Internacional Villa Alba de Tormes
DESCRIPTION:V Campeonato Internacional Avicultura y Colombicultura\nIII Campeonato de Castilla y León de razas autóctonas españolas\nMonográfico Nacional de Gallina Carablanca
URL:https://fesacocur.es/evento/v-campeonato-internacional-villa-alba-de-tormes/
END:VEVENT
BEGIN:VEVENT
DTSTART;TZID=UTC:20161117T000000
DTEND;TZID=UTC:20161117T000000
DTSTAMP:20260425T152858
CREATED:20250909T103150Z
LAST-MODIFIED:20250909T103150Z
UID:7044-1479340800-1479340800@fesacocur.es
SUMMARY:XII Campeonato de España de Avicultura\, Colombicultura y Cunicultura de Raza 2017
DESCRIPTION:
URL:https://fesacocur.es/evento/xii-campeonato-de-espana-de-avicultura-colombicultura-y-cunicultura-de-raza-2017/
END:VEVENT
BEGIN:VEVENT
DTSTART;TZID=UTC:20161115T000000
DTEND;TZID=UTC:20161115T000000
DTSTAMP:20260425T152858
CREATED:20250909T103150Z
LAST-MODIFIED:20250909T103150Z
UID:7042-1479168000-1479168000@fesacocur.es
SUMMARY:XXX Exposició Concurs Internacional d'Aus de Raça - Ciutat dels Valls
DESCRIPTION:Campeonato Europeo de la Figureta
URL:https://fesacocur.es/evento/xxx-exposicio-concurs-internacional-daus-de-raca-ciutat-dels-valls/
END:VEVENT
BEGIN:VEVENT
DTSTART;TZID=UTC:20161115T000000
DTEND;TZID=UTC:20161115T000000
DTSTAMP:20260425T152858
CREATED:20250909T103150Z
LAST-MODIFIED:20250909T103150Z
UID:7043-1479168000-1479168000@fesacocur.es
SUMMARY:Campeonato Europeo de la Figureta
DESCRIPTION:
URL:https://fesacocur.es/evento/campeonato-europeo-de-la-figureta/
END:VEVENT
BEGIN:VEVENT
DTSTART;TZID=UTC:20161103T000000
DTEND;TZID=UTC:20161103T000000
DTSTAMP:20260425T152858
CREATED:20250909T103150Z
LAST-MODIFIED:20250909T103150Z
UID:7041-1478131200-1478131200@fesacocur.es
SUMMARY:I Jornadas Técnicas "Amadeu Francesch"
DESCRIPTION:12:30 h. Presentación\nTeodoro Moreno \n12:45 h. “Creación nuevos colores en gallinas de raza”\nEnrique Armero \n13:15 h. “Colores de palomas”\nLluís Colom \n13:45 h. Presentación 3a edición Libro Gallinas de Raza\nMonserrat Francesch - Ramón Barbado \n14:00 h. Coctel-degustación pollo Cuk (SADA) \n  \nSe ruega confirmar asistencia: \n\n\n\n\nTeléfono (WhatsApp ): 639 76 13 95  \nMail: fesacocur@hotmail.com
URL:https://fesacocur.es/evento/i-jornadas-tecnicas-amadeu-francesch/
END:VEVENT
BEGIN:VEVENT
DTSTART;TZID=UTC:20161021T000000
DTEND;TZID=UTC:20161021T000000
DTSTAMP:20260425T152858
CREATED:20250909T103150Z
LAST-MODIFIED:20250909T103150Z
UID:7040-1477008000-1477008000@fesacocur.es
SUMMARY:III Feria Avículo y Comercial de Brunete
DESCRIPTION:III Concurso monográfico de la gallina Castellana negra\n\n\n\n\nPOLIDEPORTIVO MUNICIPAL DE BRUNETE \nViernes y Sábado de 10:00h a 15:00h y de 16:00h a 21:00\nDomingo de 10:00h a 19:00h \n\n\n\n\n\nORGANIZA : El Ayuntamiento de BRUNETE y la Asociación de avicultura ornamental y de raza de la zona centro\, con la participación de importantes criadores y comerciantes locales \nMas información: www.brunete.org \n\n\n[button link="https://fesacocur.es/wp-content/uploads/2016/10/HOJA-DE-INSCRPCION-EXPO-2016.docx" color="red" size="normal" title="Hoja de Inscripción" target="_blank" rel="nofollow"] Hoja de Inscripción [/button] \n[button link="Reglamento Oficial" color="red" size="normal" title="Reglamento Oficial" target="_blank" rel="nofollow"] Reglamento Oficial [/button]
URL:https://fesacocur.es/evento/iii-feria-aviculo-y-comercial-de-brunete/
END:VEVENT
BEGIN:VEVENT
DTSTART;TZID=UTC:20160927T000000
DTEND;TZID=UTC:20160927T000000
DTSTAMP:20260425T152858
CREATED:20250909T103135Z
LAST-MODIFIED:20250909T103135Z
UID:7039-1474934400-1474934400@fesacocur.es
SUMMARY:20 Exposición Internacional de Aves - Camallera 2016
DESCRIPTION:
URL:https://fesacocur.es/evento/20-exposicion-internacional-de-aves-camallera-2016/
END:VEVENT
BEGIN:VEVENT
DTSTART;TZID=UTC:20160927T000000
DTEND;TZID=UTC:20160927T000000
DTSTAMP:20260425T152858
CREATED:20250909T103135Z
LAST-MODIFIED:20250909T103135Z
UID:7038-1474934400-1474934400@fesacocur.es
SUMMARY:AVICOR16 - Feria Avícola de Córdoba
DESCRIPTION:[button link="Descargar Programa" color="red" size="normal" title="Descargar Programa" target="_blank" rel="nofollow"]Descargar Programa AVICOR[/button] \n  \n[button link="Hoja Inscripción Palomos" color="red" size="normal" title="Hoja Inscripción Palomos" target="_blank" rel="nofollow"]Hoja Inscripción Palomos [/button] \n  \n[button link="Hoja Inscripción Avicultura" color="red" size="normal" title="Hoja Inscripción Avicultura" target="_blank" rel="nofollow"]Hoja InscripciónAvicultura [/button]
URL:https://fesacocur.es/evento/avicor16-feria-avicola-de-cordoba/
END:VEVENT
BEGIN:VEVENT
DTSTART;TZID=UTC:20160906T000000
DTEND;TZID=UTC:20160906T000000
DTSTAMP:20260425T152858
CREATED:20250909T103135Z
LAST-MODIFIED:20250909T103135Z
UID:7037-1473120000-1473120000@fesacocur.es
SUMMARY:VI Muestra Monográfica de Gallina Pedresa
DESCRIPTION:
URL:https://fesacocur.es/evento/vi-muestra-monografica-de-gallina-pedresa/
END:VEVENT
BEGIN:VEVENT
DTSTART;TZID=UTC:20160817T000000
DTEND;TZID=UTC:20160817T000000
DTSTAMP:20260425T152858
CREATED:20250909T103135Z
LAST-MODIFIED:20250909T103135Z
UID:7036-1471392000-1471392000@fesacocur.es
SUMMARY:IV Exposición Avícola "Ciudad de Torrelavega"
DESCRIPTION:I Monográfico de Gallina Araucana\nII Monográfico de Gallina Euskal Oiloa\nII Monográfico de Gallina Pita Pinta Asturiana\n\n[button link="https://fesacocur.es/wp-content/uploads/2016/08/HOJA_DE_INSCRIPCION-2016.xls" color="red" size="normal" title="Hoja de Inscripción" target="_blank" rel="nofollow"] Hoja de Inscripción [/button] \n[button link="Reglamento Oficial" color="red" size="normal" title="Reglamento Oficial" target="_blank" rel="nofollow"] Reglamento Oficial [/button]
URL:https://fesacocur.es/evento/iv-exposicion-avicola-ciudad-de-torrelavega/
END:VEVENT
BEGIN:VEVENT
DTSTART;TZID=UTC:20160628T000000
DTEND;TZID=UTC:20160628T000000
DTSTAMP:20260425T152858
CREATED:20250909T103135Z
LAST-MODIFIED:20250909T103135Z
UID:7035-1467072000-1467072000@fesacocur.es
SUMMARY:XII Feria Internacional - AGROPEC 2016
DESCRIPTION:Avicultura\, Colombicultura y Cunicultura Villa de Gijón\nMonografico del Gigante Español en el I Centernario 1916-2016\nIII Monográfico de la Mensajera de Color y Mensajera Antigua\nXII Monográfico de Pita Pinta Asturiana\nI Monográfico Nacional de la Araucana\n[button link="https://fesacocur.es/wp-content/uploads/2016/06/reglamento-agropec-2016.docx" color="red" size="normal" title="Descargar Reglamento" target="_auto" rel="nofollow"] Descargar Reglamento [/button]
URL:https://fesacocur.es/evento/xii-feria-internacional-agropec-2016/
END:VEVENT
BEGIN:VEVENT
DTSTART;TZID=UTC:20160512T000000
DTEND;TZID=UTC:20160512T000000
DTSTAMP:20260425T152858
CREATED:20250909T103119Z
LAST-MODIFIED:20250909T103119Z
UID:7034-1463011200-1463011200@fesacocur.es
SUMMARY:IV Concurso Morfológico "Ciudad de Ronda" de la Raza Sureña
DESCRIPTION:II Monográfico de Sureñas Enanas (en proyecto)\nExposición y venta Avícola.
URL:https://fesacocur.es/evento/iv-concurso-morfologico-ciudad-de-ronda-de-la-raza-surena/
END:VEVENT
END:VCALENDAR