BEGIN:VCALENDAR
VERSION:2.0
PRODID:-//Fesacocur - ECPv6.15.19//NONSGML v1.0//EN
CALSCALE:GREGORIAN
METHOD:PUBLISH
X-ORIGINAL-URL:https://fesacocur.es
X-WR-CALDESC:Eventos para Fesacocur
REFRESH-INTERVAL;VALUE=DURATION:PT1H
X-Robots-Tag:noindex
X-PUBLISHED-TTL:PT1H
BEGIN:VTIMEZONE
TZID:UTC
BEGIN:STANDARD
TZOFFSETFROM:+0000
TZOFFSETTO:+0000
TZNAME:UTC
DTSTART:20250101T000000
END:STANDARD
END:VTIMEZONE
BEGIN:VEVENT
DTSTART;TZID=UTC:20260117T000000
DTEND;TZID=UTC:20260118T235959
DTSTAMP:20260425T123956
CREATED:20251209T103421Z
LAST-MODIFIED:20260108T204813Z
UID:7093-1768608000-1768780799@fesacocur.es
SUMMARY:XXXIV Exposició Internacional d’Aus de Raça “Ciutat de Valls”
DESCRIPTION:XXXIV Exposició- Concurs Internacional d’Aus de Raça “Ciutat de Valls”\n-> DESCARGAR REGLAMENTO <- \n \nLas inscripciones se tendrán que hacer online a través de programa de gestión de exposiciones: www.exposicionesavicolas.com  y elegir la opción “ El Francoli”
URL:https://fesacocur.es/evento/xxxiv-exposicio-internacional-daus-de-raca-ciutat-de-valls/
LOCATION:sala Kursaal de Valls\, Valls\, Spain
CATEGORIES:Exposiciones y Concursos
ATTACH;FMTTYPE=image/jpeg:https://fesacocur.es/wp-content/uploads/2025/12/1f370b85-d642-41d8-8914-8c7d4d6c2d8e.jpg
END:VEVENT
END:VCALENDAR